Workbook

Sheet Sources and Contents
A1: Item | B1: Source | C1: File link (internal) or URL (external) | D1: Notes
A2: 5-and-under population by age | B2: Stats NZ Infoshare | C2: Population 5 and under 2015-2024.csv
A3: Stats NZ projected births | B3: Stats NZ | C3: Stats_NZ_Population_Projections.xlsx
A4: ECE participation by age | B4: Ministry of Education | C4: Participation in ECE 2000-2024.xlsx
A5: ECE teaching staff by full or part time status | B5: Ministry of Education | C5: ECE teaching staff by full or part time status 2011-2024.xlsx
A6: Hours worked | B6: Stats NZ IDI | C6: CONFIDENTIALISED ANZSIC activity dimensions.xlsx | D6: Sheet idi.anzsic_x_hoursworked. Used to adjust for FTE.
A7: Playcentre ratios and qualified staffing | B7: Playcentre NZ | C7: Supervision Requirements | Playcentre.org.nz
A8: Home-based and Centre-based Teacher-led ratios | B8: Legislation.govt.nz | C8: Education (Early Childhood Services) Amendment Regulations 2011 (SR 2011/198) Schedule New Schedule 2 substituted – New Zealand Legislation
A9: ECE services directory | B9: Ministry of Education | C9: Early Childhood Services | Education Counts | D9: As at 12 June 2025. Used as basis for 2025 demand.
A10: Licensed places information | B10: Ministry of Education | C10: ECE Directory - Download the whole directory | D10: Used to forecast licensed places for Max Occupancy scenario.
A11: Market age breakdown | B11: Ministry of Education | C11: ECE participation 2021-2024 pivot - by age and service type.xlsx | D11: Used to calculate proportion of attendees in each age/age group.
A12: ECE teachers by qualification status | B12: Ministry of Education | C12: Number of teaching staff by qualification status (2011-2024) | D12: Used as base to calculate historic FTE workforce and qualified workforce.
A13: Observed adult:child ratios | B13: Ministry of Education | C13: ECE adult to child ratios 2023-2024.xlsx | D13: Used to calculate observed ratios for kindergarten + education & care services.
A14: 2025 roll numbers | B14: Ministry of Education | C14: ECE services directory.csv | D14: Live version should be the same. Proportions calculated in Power BI, exported then pasted in here.
A15: Stats NZ population forecast | B15: Statistics NZ Aotearoa Data Explorer | C15: Aotearoa Data Explorer • National population projections, by age and sex, 2024(base)-2078
A16: Regional population data | B16: Stats NZ Infoshare | C16: Infoshare Estimated Resident Population for Regional Council Areas, as at 30 June (1996+) (Annual-Jun)
A17: Estimated historic under-5 population in Auckland | B17: Stats NZ via Figure.nz | C17: Table: Population - Estimated population in Auckland by sex, age group, and local board area at June 1996–2024 - Figure.NZ
A20: Sheet label | B20: Type | C20: Description
A21: T1 | B21: Table | C21: Population under 5 2015-2024 with growth from migration values
A22: T2 | B22: Table | C22: Population forecast - Stats NZ
A23: T3 | B23: Table | C23: Population forecast for Auckland using Stats NZ forecast as base, and low, medium, and high observed proportion of population to extrapolate Auckland population forecast
A24: T5 | B24: Table | C24: ECE participation rate calculation by age
A25: T6 | B25: Table | C25: Demand forecast - low participation in ECE
A26: T7 | B26: Table | C26: Demand forecast - medium participation in ECE
A27: T8 | B27: Table | C27: Demand forecast - high participation in ECE
A28: T15 | B28: Table | C28: Demand forecast - low as low participation, medium as medium participation, high as high participation
... A46: Opportunities | B46: List | C46: List of opportunities to extend or improve this product.

Sheet Assumptions
A1: Assumption | B1: Assumption details
A2: Migration | B2: Our migration calculations assume that border controls like those seen in 2021 and 2022 will not occur again in the forecast period.
A3: Market share | B3: Teacher demand projections assume that each service type will hold the mean market share that it has held between 2021-2025. This may result in an overestimation of the number of qualified teachers needed, because kindergarten market share has significantly reduced over that period while education & care market share has significantly increased.
A4: Regulatory settings - ratios | B4: We assume that regulatory requirements for adult-to-child ratios will remain the same.
A5: FTE | B5: We assume that - the average weekly work hours for ECE workers reported in the census are a suitable approximation of hours actually worked - that prior to 2018, average weekly hours worked were the same as they were at the time of the 2018 census - that work demands will continue to change at the same rate that they did between 2018 and 2023
A6: Workforce demand | B6: We assume that workforce demand is influenced by regulated ratios, that the demand for qualified teachers within the overall workforce is influenced by funding levels, and that ratios are relevant to the number of children actually in attendance at any given time.
A7: All services are all-day | B7: To simplify estimations, our model applies all-day ratios for all services and participants. See the Limitations table for information about how this impacts the accuracy of our estimates.
A8: Service types | B8: For the purposes of forecasting in the scenario of all licensed places being used, we assume that Puna Reo, Reo Rua Education and Care, Leo o Fanau Moana Bilingual, and Leo o Fanau Moana Immersion services have previously fallen under the Education and Care service type.
A9: Licensed places | B9: The proportion of places licensed for under-2s will follow historic trends, regardless of low rates of participation by under-2s.
A10: Attendance | B10: We assume that attendance will continue at the same rate it was measured in 2024 for service types covered in the ECE census hours of participation data, and that attendance at other service types will average 24 hours per week.
A11: Service types | B11: For the purpose of forecasting market share for services that require enrolment, we assume that attendance at Casual Education and Care + Hospital-based services is not relevant.
A12: Max occupancy | B12: The max occupancy scenario assumes that licensed places will continue to grow at the mean rate observed from 2015-2024, and that all licensed places will be in use all of the time. It does not account for the relationship between licensed places and service numbers or population.
... A15: Ratios | B15: We assume that staffing ratios for services in the Auckland region are generally the same as they are in the rest of the country.

Sheet Limitations
A1: Limitation | B1: Description
A2: Sessional services are not accounted for | B2: We do not have data about how many services are all-day and how many are sessional. To simplify estimations, our model applies all-day ratios for all services and participants. In reality, many services are sessional. Ratios for sessional services are different to all-day centre-based services. This means that our model will overestimate the number of full-time equivalent staff needed to meet market demand.
A3: New service types' old categorisations are unknown | B3: Four new service types have been introduced in 2025. We do not know which categories the services were in before the new types were introduced, so our forecast has placed all of them into the prior-existing service type that required the lowest concentration of qualified staff.
A4: New categories are not accounted for | B4: We do not have historic data about services in the new service types, so we have not distinguished them in our forecasting model.
A5: 5-year-olds are not accounted for | B5: Our model does not account for 5-year-olds attending ECE services.
A6: No staffing information for Kōhanga Reo | B6: The Ministry of Education does not publish statistical or demographic data about teachers in Kōhanga Reo services. As such, we cannot build Kōhanga Reo into our model in the same way that other centre-based, teacher-led services can be built in.
A7: Licensed places forecasting | B7: Forecasting of licensed places considers only historic patterns in licensed places. It does not consider the relationship between the number of enrolled children or the number of active services with the number of licensed places.
A8: Market breakdown by age | B8: The total numbers returned by the Education Counts participation pivot table for age x service type are significantly higher than the total numbers returned in single-dimension tables from the ECE census. To mitigate this limitation, the proportions for each age are calculated using the pivot table, then applied over the total numbers from the participation by service type file.
A9: Accuracy differs between levels of detail | B9: This model has tested well when used as a high-level overview tool, but results are less accurate when looking at detailed parts. Model results for specific service types are likely to be further from reality due to our model's use of mean averages to predict potential future demand. For example, results for the number of children expected to attend home-based services will likely be well above actual attendance, and results for the number of children expected to attend education and care services will likely be below actual numbers. Both of these service types have strong and enduring trends that are not reflected when we use observed means to predict demand.

Sheet Definitions
A1: Term | B1: Description
A2: Low participation | B2: The lowest observed rate of participation in ECE for the period 2015-2024. Calculated using age-specific participation numbers.
A3: Medium participation | B3: The mean observed rate of participation in ECE for the period 2015-2024. Calculated using age-specific participation numbers.
A4: High participation | B4: The maximum observed rate of participation in ECE for the period 2015-2024. Calculated using age-specific participation numbers.
A5: Population | B5: The number of people of each age for each year. Source data was Aotearoa Data Explorer National Population Projection by year and age values.
A6: FTE | B6: Full-time (40 hours) equivalents. 'FTE' describes the number of people needed to do the work if each person worked 40 hours. In practice, FTE can be shared across multiple staff members, so headcounts are usually much higher than FTE.
A7: Low workforce demand | B7: Minimum required staffing assuming that the lowest-demand scenario occurs.
A8: Medium workforce demand | B8: Minimum required staffing assuming that the medium-demand scenario occurs.
A9: High workforce demand | B9: Minimum required staffing assuming that the high-demand scenario occurs.
A10: Realised demand | B10: The number of FTE that the model expects would have been needed to achieve minimum regulated ratios.
A11: Market share | B11: The percentage of participants in a specific service type. Calculated as (number of participants in service type)/(total number of participants)
A12: Low qualified workforce demand | B12: Minimum required staffing assuming that the lowest demand scenario occurs and providers choose to hire the minimum regulated or targeted amount of qualified teachers for their service type.
... A14: High qualified workforce demand | B14: Minimum required qualified FTE workforce assuming that the highest demand scenario occurs and providers choose to hire or train all of their staff to be qualified teachers.

Sheet Methodology
A1: METHODOLOGY
A2: Overview - flow chart
A5: Demand for ECE places
A6: Approach
A7: Stats NZ population estimates are used as the starting value. To estimate demand for ECE places for each age group (Under-2, 2, and 3+), observed rates of participation in ECE are applied to per-age population predictions. To estimate demand for places in each service type, the estimated demand is modified by the observed share of participation for each service type. Mean share of participation is used for this step, as mean shares sum to 1. To estimate the number of adult staff needed in the ECE industry, the estimated demand for service type is multiplied by the proportionalised adult-to-child ratio. To estimate the number of qualified teachers needed in the ECE industry, the estimated number of adult staff needed is multiplied by the service type's targeted (Kindergarten) or regulated (other service types) percentage of qualified teachers. 50% (or targeted (Kindergarten) or regulated (Home-based) minimum), 80%, and 100% scenarios are calculated to produce Low, Medium, and High demand scenarios. These percentages are based on the thresholds for funding bands. A fourth scenario, in which all service types operate at 100% occupancy, is also allowed for. This scenario is labelled 'Maximum occupancy'. The maximum occupancy scenario assumes that all licensed places in all services will be in use all of the time. It uses observed mean rates of change in the number of licensed places for each service type, and applies minimum ratios to predict the size of the workforce necessary to support the industry if every licensed place was occupied in every hour it was available. All numbers are rounded to the nearest multiple of 5, unless this would result in a zero. Where results would be zero, they are rounded to the nearest whole number.
A9: Starting variables
A10: Symbol | B10: Description | C10: Equation
A11: a1 | B11: Stats NZ actual population estimate by age for years 2015-2024
A12: a2 | B12: Stats NZ population estimate by age for years 2025-2035
A13: d | B13: Observed ECE participation rate for age (0-4) | C13: number of people participating in ECE ÷ number of people in population of interest
A14: e | B14: Market share for service type | C14: number of people participating in service type ÷ number of people participating in ECE
A15: f | B15: Total staff ratio multiplier | C15: stated number of adults ÷ stated number of children
A16: g | B16: Qualified staff percentage
A17: h | B17: Number of licensed places | C17: prior year's # licensed places * (1 + applicable change multiplier)
A18: i | B18: Average hours worked as reported in census for ANZSIC (either average or derived from average using straight-line method)
B20: FOR EACH age in {0, 1, 2, 3, 4}
A22: j | B22: Expected population = | C22: a1 for cohorts born prior to 2025 or a2 for future cohorts
A23: k | B23: Expected total demand for ECE places = | C23: j * d
B24: FOR EACH service type
A25: l | B25: Expected demand for ECE places = | C25: ( j * d ) * e
A26: m | B26: Expected FTE workforce needed = | C26: i * (sum all ( l * f ) results)
A27: n | B27: Expected qualified FTE teachers needed = | C27: i * ( sum all ( m * g ) results )
A29: Workforce supply
A30: ECE census data indicates steady growth in the workforce from 2016-2024 with all data points fitting well to a straight trend line. Because of this, our workforce supply estimates take a simple straight-line approach. Improving supply modelling is an opportunity identified in the Opportunities page.

Sheet T1
A1: Starting population | I1: year-on-year % change in cohort size
A2: Year | B2: 0 Years | C2: 1 Years | D2: 2 Years | E2: 3 Years | F2: 4 Years | G2: 5 Years | H2: Total | I2: 0 Years | J2: 1 Years | K2: 2 Years | L2: 3 Years | M2: 4 Years | N2: 5 Years
A3: 2015 | B3: 58870 | C3: 59020 | D3: 61290 | E3: 62450 | F3: 63580 | G3: 65080 | H3: =SUM(B3:G3) -> 370290
A4: 2016 | B4: 59400 | C4: 59550 | D4: 59980 | E4: 62440 | F4: 63340 | G4: 64400 | H4: =SUM(B4:G4) -> 369110 | I4: =(B4/B3)-1 -> 0.0090028877 | J4: =(C4/C3)-1 -> 0.0089800068 | K4: =(D4/D3)-1 -> -0.021373797 | L4: =(E4/E3)-1 -> -0.0001601281 | M4: =(F4/F3)-1 -> -0.0037747719 | N4: =(G4/G3)-1 -> -0.010448679 | P4: =SUM(B4:C4) -> 118950 | Q4: =SUM(D4:F4) -> 185760 | S4: 185760
A5: 2017 | B5: 60150 | C5: 59970 | D5: 60760 | E5: 61180 | F5: 63460 | G5: 64350 | H5: =SUM(B5:G5) -> 369870 | I5: =(B5/B4)-1 -> 0.012626263 | J5: =(C5/C4)-1 -> 0.0070528967 | K5: =(D5/D4)-1 -> 0.013004335 | L5: =(E5/E4)-1 -> -0.020179372 | M5: =(F5/F4)-1 -> 0.0018945374 | N5: =(G5/G4)-1 -> -0.00077639752 | P5: =SUM(B5:C5) -> 120120 | Q5: =SUM(D5:F5) -> 185400 | S5: 185400
A6: 2018 | B6: 59530 | C6: 60520 | D6: 60890 | E6: 61880 | F6: 62210 | G6: 64430 | H6: =SUM(B6:G6) -> 369460 | I6: =(B6/B5)-1 -> -0.010307564 | J6: =(C6/C5)-1 -> 0.0091712523 | K6: =(D6/D5)-1 -> 0.0021395655 | L6: =(E6/E5)-1 -> 0.011441648 | M6: =(F6/F5)-1 -> -0.019697447 | N6: =(G6/G5)-1 -> 0.0012432012 | P6: =SUM(B6:C6) -> 120050 | Q6: =SUM(D6:F6) -> 184980 | S6: 184980
A7: 2019 | B7: 59640 | C7: 59750 | D7: 61290 | E7: 61790 | F7: 62860 | G7: 63270 | H7: =SUM(B7:G7) -> 368600 | I7: =(B7/B6)-1 -> 0.0018478078 | J7: =(C7/C6)-1 -> -0.012723067 | K7: =(D7/D6)-1 -> 0.0065692232 | L7: =(E7/E6)-1 -> -0.0014544279 | M7: =(F7/F6)-1 -> 0.010448481 | N7: =(G7/G6)-1 -> -0.018004035 | P7: =SUM(B7:C7) -> 119390 | Q7: =SUM(D7:F7) -> 185940 | S7: 185940
A8: 2020 | B8: 59330 | C8: 60080 | D8: 60610 | E8: 62410 | F8: 62770 | G8: 63900 | H8: =SUM(B8:G8) -> 369100 | I8: =(B8/B7)-1 -> -0.0051978538 | J8: =(C8/C7)-1 -> 0.0055230126 | K8: =(D8/D7)-1 -> -0.011094795 | L8: =(E8/E7)-1 -> 0.010033986 | M8: =(F8/F7)-1 -> -0.0014317531 | N8: =(G8/G7)-1 -> 0.0099573257 | P8: =SUM(B8:C8) -> 119410 | Q8: =SUM(D8:F8) -> 185790 | S8: 185790
A9: 2021 | B9: 60860 | C9: 59520 | D9: 60420 | E9: 60930 | F9: 62640 | G9: 62990 | H9: =SUM(B9:G9) -> 367360 | I9: =(B9/B8)-1 -> 0.025787966 | J9: =(C9/C8)-1 -> -0.0093209055 | K9: =(D9/D8)-1 -> -0.0031347962 | L9: =(E9/E8)-1 -> -0.023714148 | M9: =(F9/F8)-1 -> -0.0020710531 | N9: =(G9/G8)-1 -> -0.014241002 | P9: =SUM(B9:C9) -> 120380 | Q9: =SUM(D9:F9) -> 183990 | S9: 183990
A10: 2022 | B10: 60340 | C10: 60720 | D10: 59670 | E10: 60840 | F10: 61160 | G10: 62710 | H10: =SUM(B10:G10) -> 365440 | I10: =(B10/B9)-1 -> -0.0085441998 | J10: =(C10/C9)-1 -> 0.02016129 | K10: =(D10/D9)-1 -> -0.012413108 | L10: =(E10/E9)-1 -> -0.0014771049 | M10: =(F10/F9)-1 -> -0.023627075 | N10: =(G10/G9)-1 -> -0.00444515 | P10: =SUM(B10:C10) -> 121060 | Q10: =SUM(D10:F10) -> 181670 | S10: 181670
A11: 2023 | B11: 56840 | C11: 60790 | D11: 61490 | E11: 60840 | F11: 62350 | G11: 62620 | H11: =SUM(B11:G11) -> 364930 | I11: =(B11/B10)-1 -> -0.05800464 | J11: =(C11/C10)-1 -> 0.0011528327 | K11: =(D11/D10)-1 -> 0.030501089 | L11: =(E11/E10)-1 -> 0 | M11: =(F11/F10)-1 -> 0.019457162 | N11: =(G11/G10)-1 -> -0.0014351778 | P11: =SUM(B11:C11) -> 117630 | Q11: =SUM(D11:F11) -> 184680 | S11: 184680
A12: 2024 | B12: 57070 | C12: 57190 | D12: 61700 | E12: 62510 | F12: 62230 | G12: 63930 | H12: =SUM(B12:G12) -> 364630 | I12: =(B12/B11)-1 -> 0.0040464462 | J12: =(C12/C11)-1 -> -0.059220266 | K12: =(D12/D11)-1 -> 0.0034151895 | L12: =(E12/E11)-1 -> 0.027449047 | M12: =(F12/F11)-1 -> -0.0019246191 | N12: =(G12/G11)-1 -> 0.020919834 | P12: =SUM(B12:C12) -> 114260 | Q12: =SUM(D12:F12) -> 186440 | S12: 186440
A14: Net migration increase
A15: 2015
A16: 2016 | C16: =C4-B3 -> 680 | D16: =D4-C3 -> 960 | E16: =E4-D3 -> 1150 | F16: =F4-E3 -> 890 | G16: =G4-F3 -> 820
A17: 2017 | C17: =C5-B4 -> 570 | D17: =D5-C4 -> 1210 | E17: =E5-D4 -> 1200 | F17: =F5-E4 -> 1020 | G17: =G5-F4 -> 1010
A18: 2018 | C18: =C6-B5 -> 370 | D18: =D6-C5 -> 920 | E18: =E6-D5 -> 1120 | F18: =F6-E5 -> 1030 | G18: =G6-F5 -> 970
A19: 2019 | C19: =C7-B6 -> 220 | D19: =D7-C6 -> 770 | E19: =E7-D6 -> 900 | F19: =F7-E6 -> 980 | G19: =G7-F6 -> 1060
A20: 2020 | C20: =C8-B7 -> 440 | D20: =D8-C7 -> 860 | E20: =E8-D7 -> 1120 | F20: =F8-E7 -> 980 | G20: =G8-F7 -> 1040
A21: 2021 | C21: =C9-B8 -> 190 | D21: =D9-C8 -> 340 | E21: =E9-D8 -> 320 | F21: =F9-E8 -> 230 | G21: =G9-F8 -> 220
A22: 2022 | C22: =C10-B9 -> -140 | D22: =D10-C9 -> 150 | E22: =E10-D9 -> 420 | F22: =F10-E9 -> 230 | G22: =G10-F9 -> 70
A23: 2023 | C23: =C11-B10 -> 450 | D23: =D11-C10 -> 770 | E23: =E11-D10 -> 1170 | F23: =F11-E10 -> 1510 | G23: =G11-F10 -> 1460
A24: 2024 | C24: =C12-B11 -> 350 | D24: =D12-C11 -> 910 | E24: =E12-D11 -> 1020 | F24: =F12-E11 -> 1390 | G24: =G12-F11 -> 1580
G25: Estimated total increase in under-6 population arising from migration | H25: =SUM(C16:G24) -> 34930
A27: Net % increase from migration
A28: 2015
A29: 2016 | C29: =C16/B3 -> 0.011550875 | D29: =D16/C3 -> 0.016265673 | E29: =E16/D3 -> 0.018763257 | F29: =F16/E3 -> 0.014251401 | G29: =G16/F3 -> 0.012897137
A30: 2017 | C30: =C17/B4 -> 0.0095959596 | D30: =D17/C4 -> 0.02031906 | E30: =E17/D4 -> 0.020006669 | F30: =F17/E4 -> 0.016335682 | G30: =G17/F4 -> 0.01594569
A31: 2018 | C31: =C18/B5 -> 0.0061512884 | D31: =D18/C5 -> 0.015341004 | E31: =E18/D5 -> 0.01843318 | F31: =F18/E5 -> 0.016835567 | G31: =G18/F5 -> 0.015285219
A32: 2019 | C32: =C19/B6 -> 0.0036956157 | D32: =D19/C6 -> 0.012723067 | E32: =E19/D6 -> 0.014780752 | F32: =F19/E6 -> 0.015837104 | G32: =G19/F6 -> 0.017039061
A33: 2020 | C33: =C20/B7 -> 0.0073775989 | D33: =D20/C7 -> 0.014393305 | E33: =E20/D7 -> 0.01827378 | F33: =F20/E7 -> 0.015860172 | G33: =G20/F7 -> 0.016544703
A34: 2021 | C34: =C21/B8 -> 0.0032024271 | D34: =D21/C8 -> 0.0056591212 | E34: =E21/D8 -> 0.0052796568 | F34: =F21/E8 -> 0.0036853068 | G34: =G21/F8 -> 0.003504859
A35: 2022 | C35: =C22/B9 -> -0.0023003615 | D35: =D22/C9 -> 0.0025201613 | E35: =E22/D9 -> 0.0069513406 | F35: =F22/E9 -> 0.0037748236 | G35: =G22/F9 -> 0.0011174968
A36: 2023 | C36: =C23/B10 -> 0.0074577395 | D36: =D23/C10 -> 0.012681159 | E36: =E23/D10 -> 0.019607843 | F36: =F23/E10 -> 0.024819198 | G36: =G23/F10 -> 0.023871812
A37: 2024 | C37: =C24/B11 -> 0.0061576355 | D37: =D24/C11 -> 0.014969567 | E37: =E24/D11 -> 0.016588063 | F37: =F24/E11 -> 0.022846811 | G37: =G24/F11 -> 0.025340818
A41: Min | C41: =MIN(C29:C37) -> -0.0023003615 | D41: =MIN(D29:D37) -> 0.0025201613 | E41: =MIN(E29:E37) -> 0.0052796568 | F41: =MIN(F29:F37) -> 0.0036853068 | G41: =MIN(G29:G37) -> 0.0011174968
A42: Mean | C42: =AVERAGE(C29:C37) -> 0.0058765309 | D42: =AVERAGE(D29:D37) -> 0.012763569 | E42: =AVERAGE(E29:E37) -> 0.015409394 | F42: =AVERAGE(F29:F37) -> 0.01491623 | G42: =AVERAGE(G29:G37) -> 0.014616311
A43: Median | C43: =MEDIAN(C29:C37) -> 0.0061576355 | D43: =MEDIAN(D29:D37) -> 0.014393305 | E43: =MEDIAN(E29:E37) -> 0.01827378 | F43: =MEDIAN(F29:F37) -> 0.015860172 | G43: =MEDIAN(G29:G37) -> 0.01594569
A44: Max | C44: =MAX(C29:C37) -> 0.011550875 | D44: =MAX(D29:D37) -> 0.02031906 | E44: =MAX(E29:E37) -> 0.020006669 | F44: =MAX(F29:F37) -> 0.024819198 | G44: =MAX(G29:G37) -> 0.025340818

Sheet T2
A1: POPULATION FORECAST: STATS NZ GRANULAR POPULATION FORECASTS
A2: Applied rate of increase | F2: 0.0036956157 | I2: 0.012681159 | L2: 0.014780752 | O2: 0.014251401
B3: 0 years* | E3: 1 years | H3: 2 years | K3: 3 years | N3: 4 years | Q3: Total | U3: Total under 2s | Y3: Total 2+s
A4: Year | B4: Low | C4: Median | D4: High | E4: Low | F4: Median | G4: High | H4: Low | I4: Median | J4: High | K4: Low | L4: Median | M4: High | N4: Low | O4: Median | P4: High | Q4: Low | R4: Actual | S4: Median | T4: High | U4: Low | V4: Actual | W4: Medium | X4: High | Y4: Low | Z4: Actual | AA4: Medium | AB4: High
A5: 2015 | C5: 58870 | F5: 59020 | I5: 61290 | L5: 62450 | O5: 63580 | R5: =SUM(C5,F5,I5,L5,O5) -> 305210 | V5: =SUM(C5,F5) -> 117890 | Z5: =SUM(I5,L5,O5) -> 187320
A6: 2016 | C6: 59400 | F6: 59550 | I6: 59980 | L6: 62440 | O6: 63340 | R6: =SUM(C6,F6,I6,L6,O6) -> 304710 | V6: =SUM(C6,F6) -> 118950 | Z6: =SUM(I6,L6,O6) -> 185760
A7: 2017 | C7: 60150 | F7: 59970 | I7: 60760 | L7: 61180 | O7: 63460 | R7: =SUM(C7,F7,I7,L7,O7) -> 305520 | V7: =SUM(C7,F7) -> 120120 | Z7: =SUM(I7,L7,O7) -> 185400
A8: 2018 | C8: 59530 | F8: 60520 | I8: 60890 | L8: 61880 | O8: 62210 | R8: =SUM(C8,F8,I8,L8,O8) -> 305030 | V8: =SUM(C8,F8) -> 120050 | Z8: =SUM(I8,L8,O8) -> 184980
A9: 2019 | C9: 59640 | F9: 59750 | I9: 61290 | L9: 61790 | O9: 62860 | R9: =SUM(C9,F9,I9,L9,O9) -> 305330 | V9: =SUM(C9,F9) -> 119390 | Z9: =SUM(I9,L9,O9) -> 185940
A10: 2020 | C10: 59330 | F10: 60080 | I10: 60610 | L10: 62410 | O10: 62770 | R10: =SUM(C10,F10,I10,L10,O10) -> 305200 | V10: =SUM(C10,F10) -> 119410 | Z10: =SUM(I10,L10,O10) -> 185790
A11: 2021 | C11: 60860 | F11: 59520 | I11: 60420 | L11: 60930 | O11: 62640 | R11: =SUM(C11,F11,I11,L11,O11) -> 304370 | V11: =SUM(C11,F11) -> 120380 | Z11: =SUM(I11,L11,O11) -> 183990
A12: 2022 | C12: 60340 | F12: 60720 | I12: 59670 | L12: 60840 | O12: 61160 | R12: =SUM(C12,F12,I12,L12,O12) -> 302730 | V12: =SUM(C12,F12) -> 121060 | Z12: =SUM(I12,L12,O12) -> 181670
A13: 2023 | C13: 56840 | F13: 60790 | I13: 61490 | L13: 60840 | O13: 62350 | R13: =SUM(C13,F13,I13,L13,O13) -> 302310 | V13: =SUM(C13,F13) -> 117630 | Z13: =SUM(I13,L13,O13) -> 184680
A14: 2024 | C14: 57070 | F14: 57190 | I14: 61700 | L14: 62510 | O14: 62230 | Q14: 300700 | R14: =SUM(C14,F14,I14,L14,O14) -> 300700 | S14: 300700 | T14: 300700 | U14: =V14 -> 114260 | V14: =SUM(C14,F14) -> 114260 | W14: =V14 -> 114260 | X14: =V14 -> 114260 | Y14: =Z14 -> 186440 | Z14: =SUM(I14,L14,O14) -> 186440 | AA14: =Z14 -> 186440 | AB14: =Z14 -> 186440
A15: 2025 | B15: 56850 | C15: 58130 | D15: 59320 | E15: 56790 | F15: 57030 | G15: 57240 | H15: 57140 | I15: 57380 | J15: 57570 | K15: 61720 | L15: 61980 | M15: 62170 | N15: 62610 | O15: 62890 | P15: 63050 | Q15: =SUM(B15,E15,H15,K15,N15) -> 295110 | S15: =SUM(C15,F15,I15,L15,O15) -> 297410 | T15: =SUM(D15,G15,J15,M15,P15) -> 299350 | U15: =SUM(B15,E15) -> 113640 | W15: =SUM(C15,F15) -> 115160 | X15: =SUM(D15,F15) -> 116350 | Y15: =SUM(I15,L15,O15) -> 182250 | AA15: =SUM(I15,L15,O15) -> 182250 | AB15: =SUM(I15,L15,O15) -> 182250
A16: 2026 | B16: 56100 | C16: 58140 | D16: 59990 | E16: 56510 | F16: 58120 | G16: 59390 | H16: 56880 | I16: 57260 | J16: 57580 | K16: 57290 | L16: 57700 | M16: 58050 | N16: 61950 | O16: 62400 | P16: 62760 | Q16: =SUM(B16,E16,H16,K16,N16) -> 288730 | S16: =SUM(C16,F16,I16,L16,O16) -> 293620 | T16: =SUM(O16,L16,I16,G16,D16) -> 296740 | U16: =SUM(B16,E16) -> 112610 | W16: =SUM(C16,F16) -> 116260 | X16: =SUM(D16,G16) -> 119380 | Y16: =SUM(I16,L16,O16) -> 177360 | AA16: =SUM(I16,L16,O16) -> 177360 | AB16: =SUM(I16,L16,O16) -> 177360
A17: 2027 | B17: 55500 | C17: 58130 | D17: 60480 | E17: 56090 | F17: 58160 | G17: 60080 | H17: 56750 | I17: 58380 | J17: 59670 | K17: 57060 | L17: 57620 | M17: 58130 | N17: 57540 | O17: 58160 | P17: 58710 | Q17: =SUM(B17,E17,H17,K17,N17) -> 282940 | S17: =SUM(C17,F17,I17,L17,O17) -> 290450 | T17: =SUM(O17,L17,J17,G17,D17) -> 296010 | U17: =SUM(B17,E17) -> 111590 | W17: =SUM(C17,F17) -> 116290 | X17: =SUM(D17,G17) -> 120560 | Y17: =SUM(H17,L17,O17) -> 172530 | AA17: =SUM(I17,L17,O17) -> 174160 | AB17: =SUM(J17,L17,O17) -> 175450
A18: 2028 | B18: 55090 | C18: 58100 | D18: 60960 | E18: 55470 | F18: 58170 | G18: 60580 | H18: 56360 | I18: 58450 | J18: 60380 | K18: 57080 | L18: 58770 | M18: 60140 | N18: 57370 | O18: 58110 | P18: 58750 | Q18: =SUM(B18,E18,H18,K18,N18) -> 281370 | S18: =SUM(C18,F18,I18,L18,O18) -> 291600 | T18: =SUM(O18,M18,J18,G18,D18) -> 300170 | U18: =SUM(B18,E18) -> 110560 | W18: =SUM(C18,F18) -> 116270 | X18: =SUM(D18,G18) -> 121540 | Y18: =SUM(H18,K18,O18) -> 171550 | AA18: =SUM(I18,L18,O18) -> 175330 | AB18: =SUM(J18,M18,O18) -> 178630
A19: 2029 | B19: 54710 | C19: 58070 | D19: 61270 | E19: 55080 | F19: 58160 | G19: 61040 | H19: 55840 | I19: 58480 | J19: 60890 | K19: 56710 | L19: 58860 | M19: 60930 | N19: 57560 | O19: 59280 | P19: 60690 | Q19: =SUM(B19,E19,H19,K19,N19) -> 279900 | S19: =SUM(C19,F19,I19,L19,O19) -> 292850 | T19: =SUM(P19,M19,J19,G19,D19) -> 304820 | U19: =SUM(B19,E19) -> 109790 | W19: =SUM(C19,F19) -> 116230 | X19: =SUM(D19,G19) -> 122310 | Y19: =SUM(H19,K19,N19) -> 170110 | AA19: =SUM(I19,L19,O19) -> 176620 | AB19: =SUM(J19,M19,P19) -> 182510
A20: 2030 | B20: 54380 | C20: 58050 | D20: 61580 | E20: 54780 | F20: 58140 | G20: 61390 | H20: 55390 | I20: 58480 | J20: 61390 | K20: 56270 | L20: 58900 | M20: 61310 | N20: 57170 | O20: 59390 | P20: 61590 | Q20: =SUM(B20,E20,H20,K20,N20) -> 277990 | S20: =SUM(C20,F20,I20,L20,O20) -> 292960 | T20: =SUM(P20,M20,J20,G20,D20) -> 307260 | U20: =SUM(B20,E20) -> 109160 | W20: =SUM(C20,F20) -> 116190 | X20: =SUM(D20,G20) -> 122970 | Y20: =SUM(H20,K20,N20) -> 168830 | AA20: =SUM(I20,L20,O20) -> 176770 | AB20: =SUM(J20,M20,P20) -> 184290
A21: 2031 | B21: 53950 | C21: 58060 | D21: 61880 | E21: 54460 | F21: 58130 | G21: 61620 | H21: 55050 | I21: 58460 | J21: 61650 | K21: 55820 | L21: 58910 | M21: 61830 | N21: 56810 | O21: 59440 | P21: 61910 | Q21: =SUM(B21,E21,H21,K21,N21) -> 276090 | S21: =SUM(C21,F21,I21,L21,O21) -> 293000 | T21: =SUM(P21,M21,J21,G21,D21) -> 308890 | U21: =SUM(B21,E21) -> 108410 | W21: =SUM(C21,F21) -> 116190 | X21: =SUM(D21,G21) -> 123500 | Y21: =SUM(H21,K21,N21) -> 167680 | AA21: =SUM(I21,L21,O21) -> 176810 | AB21: =SUM(J21,M21,P21) -> 185390
A22: 2032 | B22: 53760 | C22: 58100 | D22: 62280 | E22: 54010 | F22: 58140 | G22: 61970 | H22: 54790 | I22: 58450 | J22: 62010 | K22: 55470 | L22: 58900 | M22: 62200 | N22: 56310 | O22: 59450 | P22: 62410 | Q22: =SUM(B22,E22,H22,K22,N22) -> 274340 | S22: =SUM(C22,F22,I22,L22,O22) -> 293040 | T22: =SUM(P22,M22,J22,G22,D22) -> 310870 | U22: =SUM(B22,E22) -> 107770 | W22: =SUM(C22,F22) -> 116240 | X22: =SUM(D22,G22) -> 124250 | Y22: =SUM(H22,K22,N22) -> 166570 | AA22: =SUM(I22,L22,O22) -> 176800 | AB22: =SUM(J22,M22,P22) -> 186620
A23: 2033 | B23: 53570 | C23: 58210 | D23: 62710 | E23: 53870 | F23: 58190 | G23: 62280 | H23: 54370 | I23: 58470 | J23: 62300 | K23: 55180 | L23: 58890 | M23: 62620 | N23: 55930 | O23: 59440 | P23: 62770 | Q23: =SUM(B23,E23,H23,K23,N23) -> 272920 | S23: =SUM(C23,F23,I23,L23,O23) -> 293200 | T23: =SUM(P23,M23,J23,G23,D23) -> 312680 | U23: =SUM(B23,E23) -> 107440 | W23: =SUM(C23,F23) -> 116400 | X23: =SUM(D23,G23) -> 124990 | Y23: =SUM(H23,K23,N23) -> 165480 | AA23: =SUM(I23,L23,O23) -> 176800 | AB23: =SUM(J23,M23,P23) -> 187690
A24: 2034 | B24: 53610 | C24: 58380 | D24: 62970 | E24: 53690 | F24: 58300 | G24: 62780 | H24: 54180 | I24: 58520 | J24: 62600 | K24: 54800 | L24: 58910 | M24: 62800 | N24: 55660 | O24: 59440 | P24: 63130 | Q24: =SUM(B24,E24,H24,K24,N24) -> 271940 | S24: =SUM(C24,F24,I24,L24,O24) -> 293550 | T24: =SUM(P24,M24,J24,G24,D24) -> 314280 | U24: =SUM(B24,E24) -> 107300 | W24: =SUM(C24,F24) -> 116680 | X24: =SUM(D24,G24) -> 125750 | Y24: =SUM(H24,K24,N24) -> 164640 | AA24: =SUM(I24,L24,O24) -> 176870 | AB24: =SUM(J24,M24,P24) -> 188530
A25: 2035 | B25: 53470 | C25: 58620 | D25: 63520 | E25: 53660 | F25: 58470 | G25: 63090 | H25: 54120 | I25: 58630 | J25: 63070 | K25: 54660 | L25: 58970 | M25: 63030 | N25: 55310 | O25: 59460 | P25: 63380 | Q25: =SUM(B25,E25,H25,K25,N25) -> 271220 | S25: =SUM(C25,F25,I25,L25,O25) -> 294150 | T25: =SUM(P25,M25,J25,G25,D25) -> 316090 | U25: =SUM(B25,E25) -> 107130 | W25: =SUM(C25,F25) -> 117090 | X25: =SUM(D25,G25) -> 126610 | Y25: =SUM(H25,K25,N25) -> 164090 | AA25: =SUM(I25,L25,O25) -> 177060 | AB25: =SUM(J25,M25,P25) -> 189480
A26: 2036 | B26: 53560 | C26: 58940 | D26: 64060 | E26: 53620 | F26: 58720 | G26: 63690 | H26: 53970 | I26: 58810 | J26: 63430 | K26: 54540 | L26: 59080 | M26: 63480 | N26: 55150 | O26: 59530 | P26: 63620 | Q26: =SUM(B26,E26,H26,K26,N26) -> 270840 | S26: =SUM(C26,F26,I26,L26,O26) -> 295080 | T26: =SUM(P26,M26,J26,G26,D26) -> 318280 | U26: =SUM(B26,E26) -> 107180 | W26: =SUM(C26,F26) -> 117660 | X26: =SUM(D26,G26) -> 127750 | Y26: =SUM(H26,K26,N26) -> 163660 | AA26: =SUM(I26,L26,O26) -> 177420 | AB26: =SUM(J26,M26,P26) -> 190530
A27: 2037 | B27: 53700 | C27: 59320 | D27: 64680 | E27: 53570 | F27: 59050 | G27: 64150 | H27: 53950 | I27: 59060 | J27: 63950 | K27: 54390 | L27: 59270 | M27: 63930 | N27: 55100 | O27: 59640 | P27: 63950 | Q27: =SUM(B27,E27,H27,K27,N27) -> 270710 | S27: =SUM(C27,F27,I27,L27,O27) -> 296340 | T27: =SUM(P27,M27,J27,G27,D27) -> 320660 | U27: =SUM(B27,E27) -> 107270 | W27: =SUM(C27,F27) -> 118370 | X27: =SUM(D27,G27) -> 128830 | Y27: =SUM(H27,K27,N27) -> 163440 | AA27: =SUM(I27,L27,O27) -> 177970 | AB27: =SUM(J27,M27,P27) -> 191830
A28: 2038 | B28: 53990 | C28: 59750 | D28: 65300 | E28: 53910 | F28: 59430 | G28: 64750 | H28: 53980 | I28: 59390 | J28: 64480 | K28: 54380 | L28: 59520 | M28: 64420 | N28: 54980 | O28: 59830 | P28: 64430 | Q28: =SUM(B28,E28,H28,K28,N28) -> 271240 | S28: =SUM(C28,F28,I28,L28,O28) -> 297920 | T28: =SUM(P28,M28,J28,G28,D28) -> 323380 | U28: =SUM(B28,E28) -> 107900 | W28: =SUM(C28,F28) -> 119180 | X28: =SUM(D28,G28) -> 130050 | Y28: =SUM(H28,K28,N28) -> 163340 | AA28: =SUM(I28,L28,O28) -> 178740 | AB28: =SUM(J28,M28,P28) -> 193330
A30: Values are from Stats NZ population projections

Sheet T3
A1: POPULATION FORECAST: STATS NZ GRANULAR POPULATION FORECASTS
A2: Applied rate of increase | F2: 0.0036956157 | I2: 0.012681159 | L2: 0.014780752 | O2: 0.014251401
B3: 0 years* | E3: 1 years | H3: 2 years | K3: 3 years | N3: 4 years | Q3: Total | U3: Total under 2s | Y3: Total 2+s
A4: Year | B4: Low | C4: Median | D4: High | E4: Low | F4: Median | G4: High | H4: Low | I4: Median | J4: High | K4: Low | L4: Median | M4: High | N4: Low | O4: Median | P4: High | Q4: Low | R4: Actual | S4: Median | T4: High | U4: Low | V4: Actual | W4: Medium | X4: High | Y4: Low | Z4: Actual | AA4: Medium | AB4: High
A5: 2015 | C5: ='T2'!C5*'Transformed-pop_x_region'!$E2 -> 19853.53 | F5: ='T2'!F5*'Transformed-pop_x_region'!$E2 -> 19904.117 | I5: ='T2'!I5*'Transformed-pop_x_region'!$E2 -> 20669.66 | L5: ='T2'!L5*'Transformed-pop_x_region'!$E2 -> 21060.862 | O5: ='T2'!O5*'Transformed-pop_x_region'!$E2 -> 21441.947 | R5: =SUM(C5,F5,I5,L5,O5) -> 102930.12 | V5: =SUM(C5,F5) -> 39757.647 | Z5: =SUM(I5,L5,O5) -> 63172.469
A6: 2016 | C6: ='T2'!C6*'Transformed-pop_x_region'!$E3 -> 20053.793 | F6: ='T2'!F6*'Transformed-pop_x_region'!$E3 -> 20104.434 | I6: ='T2'!I6*'Transformed-pop_x_region'!$E3 -> 20249.605 | L6: ='T2'!L6*'Transformed-pop_x_region'!$E3 -> 21080.116 | O6: ='T2'!O6*'Transformed-pop_x_region'!$E3 -> 21383.961 | R6: =SUM(C6,F6,I6,L6,O6) -> 102871.91 | V6: =SUM(C6,F6) -> 40158.228 | Z6: =SUM(I6,L6,O6) -> 62713.681
A7: 2017 | C7: ='T2'!C7*'Transformed-pop_x_region'!$E4 -> 20311.027 | F7: ='T2'!F7*'Transformed-pop_x_region'!$E4 -> 20250.246 | I7: ='T2'!I7*'Transformed-pop_x_region'!$E4 -> 20517.008 | L7: ='T2'!L7*'Transformed-pop_x_region'!$E4 -> 20658.83 | O7: ='T2'!O7*'Transformed-pop_x_region'!$E4 -> 21428.725 | R7: =SUM(C7,F7,I7,L7,O7) -> 103165.84 | V7: =SUM(C7,F7) -> 40561.273 | Z7: =SUM(I7,L7,O7) -> 62604.563
A8: 2018 | C8: ='T2'!C8*'Transformed-pop_x_region'!$E5 -> 20127.591 | F8: ='T2'!F8*'Transformed-pop_x_region'!$E5 -> 20462.318 | I8: ='T2'!I8*'Transformed-pop_x_region'!$E5 -> 20587.418 | L8: ='T2'!L8*'Transformed-pop_x_region'!$E5 -> 20922.146 | O8: ='T2'!O8*'Transformed-pop_x_region'!$E5 -> 21033.721 | R8: =SUM(C8,F8,I8,L8,O8) -> 103133.19 | V8: =SUM(C8,F8) -> 40589.909 | Z8: =SUM(I8,L8,O8) -> 62543.285
A9: 2019 | C9: ='T2'!C9*'Transformed-pop_x_region'!$E6 -> 20129.264 | F9: ='T2'!F9*'Transformed-pop_x_region'!$E6 -> 20166.391 | I9: ='T2'!I9*'Transformed-pop_x_region'!$E6 -> 20686.16 | L9: ='T2'!L9*'Transformed-pop_x_region'!$E6 -> 20854.917 | O9: ='T2'!O9*'Transformed-pop_x_region'!$E6 -> 21216.056 | R9: =SUM(C9,F9,I9,L9,O9) -> 103052.79 | V9: =SUM(C9,F9) -> 40295.655 | Z9: =SUM(I9,L9,O9) -> 62757.133
A10: 2020 | C10: ='T2'!C10*'Transformed-pop_x_region'!$E7 -> 19883.24 | F10: ='T2'!F10*'Transformed-pop_x_region'!$E7 -> 20134.587 | I10: ='T2'!I10*'Transformed-pop_x_region'!$E7 -> 20312.205 | L10: ='T2'!L10*'Transformed-pop_x_region'!$E7 -> 20915.439 | O10: ='T2'!O10*'Transformed-pop_x_region'!$E7 -> 21036.085 | R10: =SUM(C10,F10,I10,L10,O10) -> 102281.56 | V10: =SUM(C10,F10) -> 40017.826 | Z10: =SUM(I10,L10,O10) -> 62263.73
A11: 2021 | C11: ='T2'!C11*'Transformed-pop_x_region'!$E8 -> 20292.655 | F11: ='T2'!F11*'Transformed-pop_x_region'!$E8 -> 19845.856 | I11: ='T2'!I11*'Transformed-pop_x_region'!$E8 -> 20145.945 | L11: ='T2'!L11*'Transformed-pop_x_region'!$E8 -> 20315.995 | O11: ='T2'!O11*'Transformed-pop_x_region'!$E8 -> 20886.163 | R11: =SUM(C11,F11,I11,L11,O11) -> 101486.61 | V11: =SUM(C11,F11) -> 40138.511 | Z11: =SUM(I11,L11,O11) -> 61348.103
A12: 2022 | C12: ='T2'!C12*'Transformed-pop_x_region'!$E9 -> 20367.071 | F12: ='T2'!F12*'Transformed-pop_x_region'!$E9 -> 20495.335 | I12: ='T2'!I12*'Transformed-pop_x_region'!$E9 -> 20140.92 | L12: ='T2'!L12*'Transformed-pop_x_region'!$E9 -> 20535.84 | O12: ='T2'!O12*'Transformed-pop_x_region'!$E9 -> 20643.852 | R12: =SUM(C12,F12,I12,L12,O12) -> 102183.02 | V12: =SUM(C12,F12) -> 40862.406 | Z12: =SUM(I12,L12,O12) -> 61320.612
A13: 2023 | C13: ='T2'!C13*'Transformed-pop_x_region'!$E10 -> 19322.377 | F13: ='T2'!F13*'Transformed-pop_x_region'!$E10 -> 20665.153 | I13: ='T2'!I13*'Transformed-pop_x_region'!$E10 -> 20903.113 | L13: ='T2'!L13*'Transformed-pop_x_region'!$E10 -> 20682.15 | O13: ='T2'!O13*'Transformed-pop_x_region'!$E10 -> 21195.464 | R13: =SUM(C13,F13,I13,L13,O13) -> 102768.26 | V13: =SUM(C13,F13) -> 39987.529 | Z13: =SUM(I13,L13,O13) -> 62780.727
A14: 2024 | C14: ='T2'!C14*'Transformed-pop_x_region'!$E11 -> 19463.842 | F14: ='T2'!F14*'Transformed-pop_x_region'!$E11 -> 19504.768 | I14: ='T2'!I14*'Transformed-pop_x_region'!$E11 -> 21042.913 | L14: ='T2'!L14*'Transformed-pop_x_region'!$E11 -> 21319.165 | O14: ='T2'!O14*'Transformed-pop_x_region'!$E11 -> 21223.671 | Q14: 300700 | R14: =SUM(C14,F14,I14,L14,O14) -> 102554.36 | S14: 300700 | T14: 300700 | U14: =V14 -> 38968.61 | V14: =SUM(C14,F14) -> 38968.61 | W14: =V14 -> 38968.61 | X14: =V14 -> 38968.61 | Y14: =Z14 -> 63585.749 | Z14: =SUM(I14,L14,O14) -> 63585.749 | AA14: =Z14 -> 63585.749 | AB14: =Z14 -> 63585.749
A15: 2025 | B15: ='T2'!B15*'Transformed-pop_x_region'!$L$4 -> 18955.594 | C15: ='T2'!C15*'Transformed-pop_x_region'!$M$4 -> 19620.263 | D15: ='T2'!C15*'Transformed-pop_x_region'!$O$4 -> 19825.357 | E15: ='T2'!E15*'Transformed-pop_x_region'!$L$4 -> 18935.588 | F15: ='T2'!F15*'Transformed-pop_x_region'!$M$4 -> 19248.987 | G15: ='T2'!F15*'Transformed-pop_x_region'!$O$4 -> 19450.2 | H15: ='T2'!H15*'Transformed-pop_x_region'!$L$4 -> 19052.289 | I15: ='T2'!I15*'Transformed-pop_x_region'!$M$4 -> 19367.12 | J15: ='T2'!I15*'Transformed-pop_x_region'!$O$4 -> 19569.568 | K15: ='T2'!K15*'Transformed-pop_x_region'!$L$4 -> 20579.406 | L15: ='T2'!L15*'Transformed-pop_x_region'!$M$4 -> 20919.73 | M15: ='T2'!L15*'Transformed-pop_x_region'!$O$4 -> 21138.408 | N15: ='T2'!N15*'Transformed-pop_x_region'!$L$4 -> 20876.16 | O15: ='T2'!O15*'Transformed-pop_x_region'!$M$4 -> 21226.877 | P15: ='T2'!O15*'Transformed-pop_x_region'!$O$4 -> 21448.765 | Q15: =SUM(B15,E15,H15,K15,N15) -> 98399.037 | S15: =SUM(C15,F15,I15,L15,O15) -> 100382.98 | T15: =SUM(D15,G15,J15,M15,P15) -> 101432.3 | U15: =SUM(B15,E15) -> 37891.181 | W15: =SUM(C15,F15) -> 38869.25 | X15: =SUM(D15,F15) -> 39074.344 | Y15: =SUM(I15,L15,O15) -> 61513.727 | AA15: =SUM(I15,L15,O15) -> 61513.727 | AB15: =SUM(I15,L15,O15) -> 61513.727
A16: 2026 | B16: ='T2'!B16*'Transformed-pop_x_region'!$L$4 -> 18705.52 | C16: ='T2'!C16*'Transformed-pop_x_region'!$M$4 -> 19623.638 | D16: ='T2'!C16*'Transformed-pop_x_region'!$O$4 -> 19828.768 | E16: ='T2'!E16*'Transformed-pop_x_region'!$L$4 -> 18842.227 | F16: ='T2'!F16*'Transformed-pop_x_region'!$M$4 -> 19616.888 | G16: ='T2'!F16*'Transformed-pop_x_region'!$O$4 -> 19821.947 | H16: ='T2'!H16*'Transformed-pop_x_region'!$L$4 -> 18965.597 | I16: ='T2'!I16*'Transformed-pop_x_region'!$M$4 -> 19326.617 | J16: ='T2'!I16*'Transformed-pop_x_region'!$O$4 -> 19528.642 | K16: ='T2'!K16*'Transformed-pop_x_region'!$L$4 -> 19102.304 | L16: ='T2'!L16*'Transformed-pop_x_region'!$M$4 -> 19475.128 | M16: ='T2'!L16*'Transformed-pop_x_region'!$O$4 -> 19678.705 | N16: ='T2'!N16*'Transformed-pop_x_region'!$L$4 -> 20656.095 | O16: ='T2'!O16*'Transformed-pop_x_region'!$M$4 -> 21061.49 | P16: ='T2'!O16*'Transformed-pop_x_region'!$O$4 -> 21281.65 | Q16: =SUM(B16,E16,H16,K16,N16) -> 96271.742 | S16: =SUM(C16,F16,I16,L16,O16) -> 99103.762 | T16: =SUM(O16,L16,I16,G16,D16) -> 99513.95 | U16: =SUM(B16,E16) -> 37547.747 | W16: =SUM(C16,F16) -> 39240.526 | X16: =SUM(D16,G16) -> 39650.715 | Y16: =SUM(I16,L16,O16) -> 59863.236 | AA16: =SUM(I16,L16,O16) -> 59863.236 | AB16: =SUM(I16,L16,O16) -> 59863.236
A17: 2027 | B17: ='T2'!B17*'Transformed-pop_x_region'!$L$4 -> 18505.461 | C17: ='T2'!C17*'Transformed-pop_x_region'!$M$4 -> 19620.263 | D17: ='T2'!C17*'Transformed-pop_x_region'!$O$4 -> 19825.357 | E17: ='T2'!E17*'Transformed-pop_x_region'!$L$4 -> 18702.185 | F17: ='T2'!F17*'Transformed-pop_x_region'!$M$4 -> 19630.389 | G17: ='T2'!F17*'Transformed-pop_x_region'!$O$4 -> 19835.589 | H17: ='T2'!H17*'Transformed-pop_x_region'!$L$4 -> 18922.25 | I17: ='T2'!I17*'Transformed-pop_x_region'!$M$4 -> 19704.644 | J17: ='T2'!I17*'Transformed-pop_x_region'!$O$4 -> 19910.62 | K17: ='T2'!K17*'Transformed-pop_x_region'!$L$4 -> 19025.614 | L17: ='T2'!L17*'Transformed-pop_x_region'!$M$4 -> 19448.126 | M17: ='T2'!L17*'Transformed-pop_x_region'!$O$4 -> 19651.421 | N17: ='T2'!N17*'Transformed-pop_x_region'!$L$4 -> 19185.661 | O17: ='T2'!O17*'Transformed-pop_x_region'!$M$4 -> 19630.389 | P17: ='T2'!O17*'Transformed-pop_x_region'!$O$4 -> 19835.589 | Q17: =SUM(B17,E17,H17,K17,N17) -> 94341.172 | S17: =SUM(C17,F17,I17,L17,O17) -> 98033.811 | T17: =SUM(O17,L17,J17,G17,D17) -> 98650.081 | U17: =SUM(B17,E17) -> 37207.646 | W17: =SUM(C17,F17) -> 39250.652 | X17: =SUM(D17,G17) -> 39660.946 | Y17: =SUM(H17,L17,O17) -> 58000.765 | AA17: =SUM(I17,L17,O17) -> 58783.159 | AB17: =SUM(J17,L17,O17) -> 58989.135
A18: 2028 | B18: ='T2'!B18*'Transformed-pop_x_region'!$L$4 -> 18368.754 | C18: ='T2'!C18*'Transformed-pop_x_region'!$M$4 -> 19610.138 | D18: ='T2'!C18*'Transformed-pop_x_region'!$O$4 -> 19815.126 | E18: ='T2'!E18*'Transformed-pop_x_region'!$L$4 -> 18495.458 | F18: ='T2'!F18*'Transformed-pop_x_region'!$M$4 -> 19633.764 | G18: ='T2'!F18*'Transformed-pop_x_region'!$O$4 -> 19838.999 | H18: ='T2'!H18*'Transformed-pop_x_region'!$L$4 -> 18792.212 | I18: ='T2'!I18*'Transformed-pop_x_region'!$M$4 -> 19728.271 | J18: ='T2'!I18*'Transformed-pop_x_region'!$O$4 -> 19934.494 | K18: ='T2'!K18*'Transformed-pop_x_region'!$L$4 -> 19032.283 | L18: ='T2'!L18*'Transformed-pop_x_region'!$M$4 -> 19836.279 | M18: ='T2'!L18*'Transformed-pop_x_region'!$O$4 -> 20043.631 | N18: ='T2'!N18*'Transformed-pop_x_region'!$L$4 -> 19128.978 | O18: ='T2'!O18*'Transformed-pop_x_region'!$M$4 -> 19613.513 | P18: ='T2'!O18*'Transformed-pop_x_region'!$O$4 -> 19818.536 | Q18: =SUM(B18,E18,H18,K18,N18) -> 93817.685 | S18: =SUM(C18,F18,I18,L18,O18) -> 98421.964 | T18: =SUM(O18,M18,J18,G18,D18) -> 99245.762 | U18: =SUM(B18,E18) -> 36864.212 | W18: =SUM(C18,F18) -> 39243.902 | X18: =SUM(D18,G18) -> 39654.125 | Y18: =SUM(H18,K18,O18) -> 57438.008 | AA18: =SUM(I18,L18,O18) -> 59178.062 | AB18: =SUM(J18,M18,O18) -> 59591.637
A19: 2029 | B19: ='T2'!B19*'Transformed-pop_x_region'!$L$4 -> 18242.05 | C19: ='T2'!C19*'Transformed-pop_x_region'!$M$4 -> 19600.012 | D19: ='T2'!C19*'Transformed-pop_x_region'!$O$4 -> 19804.894 | E19: ='T2'!E19*'Transformed-pop_x_region'!$L$4 -> 18365.419 | F19: ='T2'!F19*'Transformed-pop_x_region'!$M$4 -> 19630.389 | G19: ='T2'!F19*'Transformed-pop_x_region'!$O$4 -> 19835.589 | H19: ='T2'!H19*'Transformed-pop_x_region'!$L$4 -> 18618.828 | I19: ='T2'!I19*'Transformed-pop_x_region'!$M$4 -> 19738.397 | J19: ='T2'!I19*'Transformed-pop_x_region'!$O$4 -> 19944.726 | K19: ='T2'!K19*'Transformed-pop_x_region'!$L$4 -> 18908.913 | L19: ='T2'!L19*'Transformed-pop_x_region'!$M$4 -> 19866.656 | M19: ='T2'!L19*'Transformed-pop_x_region'!$O$4 -> 20074.325 | N19: ='T2'!N19*'Transformed-pop_x_region'!$L$4 -> 19192.33 | O19: ='T2'!O19*'Transformed-pop_x_region'!$M$4 -> 20008.416 | P19: ='T2'!O19*'Transformed-pop_x_region'!$O$4 -> 20217.567 | Q19: =SUM(B19,E19,H19,K19,N19) -> 93327.54 | S19: =SUM(C19,F19,I19,L19,O19) -> 98843.869 | T19: =SUM(P19,M19,J19,G19,D19) -> 99877.101 | U19: =SUM(B19,E19) -> 36607.469 | W19: =SUM(C19,F19) -> 39230.401 | X19: =SUM(D19,G19) -> 39640.483 | Y19: =SUM(H19,K19,N19) -> 56720.071 | AA19: =SUM(I19,L19,O19) -> 59613.468 | AB19: =SUM(J19,M19,P19) -> 60236.618
A20: 2030 | B20: ='T2'!B20*'Transformed-pop_x_region'!$L$4 -> 18132.017 | C20: ='T2'!C20*'Transformed-pop_x_region'!$M$4 -> 19593.261 | D20: ='T2'!C20*'Transformed-pop_x_region'!$O$4 -> 19798.073 | E20: ='T2'!E20*'Transformed-pop_x_region'!$L$4 -> 18265.39 | F20: ='T2'!F20*'Transformed-pop_x_region'!$M$4 -> 19623.638 | G20: ='T2'!F20*'Transformed-pop_x_region'!$O$4 -> 19828.768 | H20: ='T2'!H20*'Transformed-pop_x_region'!$L$4 -> 18468.783 | I20: ='T2'!I20*'Transformed-pop_x_region'!$M$4 -> 19738.397 | J20: ='T2'!I20*'Transformed-pop_x_region'!$O$4 -> 19944.726 | K20: ='T2'!K20*'Transformed-pop_x_region'!$L$4 -> 18762.203 | L20: ='T2'!L20*'Transformed-pop_x_region'!$M$4 -> 19880.157 | M20: ='T2'!L20*'Transformed-pop_x_region'!$O$4 -> 20087.967 | N20: ='T2'!N20*'Transformed-pop_x_region'!$L$4 -> 19062.292 | O20: ='T2'!O20*'Transformed-pop_x_region'!$M$4 -> 20045.543 | P20: ='T2'!O20*'Transformed-pop_x_region'!$O$4 -> 20255.083 | Q20: =SUM(B20,E20,H20,K20,N20) -> 92690.685 | S20: =SUM(C20,F20,I20,L20,O20) -> 98880.996 | T20: =SUM(P20,M20,J20,G20,D20) -> 99914.617 | U20: =SUM(B20,E20) -> 36397.407 | W20: =SUM(C20,F20) -> 39216.9 | X20: =SUM(D20,G20) -> 39626.841 | Y20: =SUM(H20,K20,N20) -> 56293.278 | AA20: =SUM(I20,L20,O20) -> 59664.097 | AB20: =SUM(J20,M20,P20) -> 60287.776
A21: 2031 | B21: ='T2'!B21*'Transformed-pop_x_region'!$L$4 -> 17988.642 | C21: ='T2'!C21*'Transformed-pop_x_region'!$M$4 -> 19596.637 | D21: ='T2'!C21*'Transformed-pop_x_region'!$O$4 -> 19801.484 | E21: ='T2'!E21*'Transformed-pop_x_region'!$L$4 -> 18158.692 | F21: ='T2'!F21*'Transformed-pop_x_region'!$M$4 -> 19620.263 | G21: ='T2'!F21*'Transformed-pop_x_region'!$O$4 -> 19825.357 | H21: ='T2'!H21*'Transformed-pop_x_region'!$L$4 -> 18355.416 | I21: ='T2'!I21*'Transformed-pop_x_region'!$M$4 -> 19731.646 | J21: ='T2'!I21*'Transformed-pop_x_region'!$O$4 -> 19937.904 | K21: ='T2'!K21*'Transformed-pop_x_region'!$L$4 -> 18612.159 | L21: ='T2'!L21*'Transformed-pop_x_region'!$M$4 -> 19883.532 | M21: ='T2'!L21*'Transformed-pop_x_region'!$O$4 -> 20091.378 | N21: ='T2'!N21*'Transformed-pop_x_region'!$L$4 -> 18942.256 | O21: ='T2'!O21*'Transformed-pop_x_region'!$M$4 -> 20062.42 | P21: ='T2'!O21*'Transformed-pop_x_region'!$O$4 -> 20272.136 | Q21: =SUM(B21,E21,H21,K21,N21) -> 92057.165 | S21: =SUM(C21,F21,I21,L21,O21) -> 98894.497 | T21: =SUM(P21,M21,J21,G21,D21) -> 99928.259 | U21: =SUM(B21,E21) -> 36147.333 | W21: =SUM(C21,F21) -> 39216.9 | X21: =SUM(D21,G21) -> 39626.841 | Y21: =SUM(H21,K21,N21) -> 55909.832 | AA21: =SUM(I21,L21,O21) -> 59677.598 | AB21: =SUM(J21,M21,P21) -> 60301.418
A22: 2032 | B22: ='T2'!B22*'Transformed-pop_x_region'!$L$4 -> 17925.29 | C22: ='T2'!C22*'Transformed-pop_x_region'!$M$4 -> 19610.138 | D22: ='T2'!C22*'Transformed-pop_x_region'!$O$4 -> 19815.126 | E22: ='T2'!E22*'Transformed-pop_x_region'!$L$4 -> 18008.647 | F22: ='T2'!F22*'Transformed-pop_x_region'!$M$4 -> 19623.638 | G22: ='T2'!F22*'Transformed-pop_x_region'!$O$4 -> 19828.768 | H22: ='T2'!H22*'Transformed-pop_x_region'!$L$4 -> 18268.724 | I22: ='T2'!I22*'Transformed-pop_x_region'!$M$4 -> 19728.271 | J22: ='T2'!I22*'Transformed-pop_x_region'!$O$4 -> 19934.494 | K22: ='T2'!K22*'Transformed-pop_x_region'!$L$4 -> 18495.458 | L22: ='T2'!L22*'Transformed-pop_x_region'!$M$4 -> 19880.157 | M22: ='T2'!L22*'Transformed-pop_x_region'!$O$4 -> 20087.967 | N22: ='T2'!N22*'Transformed-pop_x_region'!$L$4 -> 18775.54 | O22: ='T2'!O22*'Transformed-pop_x_region'!$M$4 -> 20065.795 | P22: ='T2'!O22*'Transformed-pop_x_region'!$O$4 -> 20275.546 | Q22: =SUM(B22,E22,H22,K22,N22) -> 91473.66 | S22: =SUM(C22,F22,I22,L22,O22) -> 98907.998 | T22: =SUM(P22,M22,J22,G22,D22) -> 99941.901 | U22: =SUM(B22,E22) -> 35933.937 | W22: =SUM(C22,F22) -> 39233.776 | X22: =SUM(D22,G22) -> 39643.894 | Y22: =SUM(H22,K22,N22) -> 55539.723 | AA22: =SUM(I22,L22,O22) -> 59674.222 | AB22: =SUM(J22,M22,P22) -> 60298.007
A23: 2033 | B23: ='T2'!B23*'Transformed-pop_x_region'!$L$4 -> 17861.938 | C23: ='T2'!C23*'Transformed-pop_x_region'!$M$4 -> 19647.265 | D23: ='T2'!C23*'Transformed-pop_x_region'!$O$4 -> 19852.641 | E23: ='T2'!E23*'Transformed-pop_x_region'!$L$4 -> 17961.967 | F23: ='T2'!F23*'Transformed-pop_x_region'!$M$4 -> 19640.515 | G23: ='T2'!F23*'Transformed-pop_x_region'!$O$4 -> 19845.82 | H23: ='T2'!H23*'Transformed-pop_x_region'!$L$4 -> 18128.683 | I23: ='T2'!I23*'Transformed-pop_x_region'!$M$4 -> 19735.021 | J23: ='T2'!I23*'Transformed-pop_x_region'!$O$4 -> 19941.315 | K23: ='T2'!K23*'Transformed-pop_x_region'!$L$4 -> 18398.763 | L23: ='T2'!L23*'Transformed-pop_x_region'!$M$4 -> 19876.781 | M23: ='T2'!L23*'Transformed-pop_x_region'!$O$4 -> 20084.557 | N23: ='T2'!N23*'Transformed-pop_x_region'!$L$4 -> 18648.836 | O23: ='T2'!O23*'Transformed-pop_x_region'!$M$4 -> 20062.42 | P23: ='T2'!O23*'Transformed-pop_x_region'!$O$4 -> 20272.136 | Q23: =SUM(B23,E23,H23,K23,N23) -> 91000.187 | S23: =SUM(C23,F23,I23,L23,O23) -> 98962.002 | T23: =SUM(P23,M23,J23,G23,D23) -> 99996.469 | U23: =SUM(B23,E23) -> 35823.905 | W23: =SUM(C23,F23) -> 39287.78 | X23: =SUM(D23,G23) -> 39698.462 | Y23: =SUM(H23,K23,N23) -> 55176.282 | AA23: =SUM(I23,L23,O23) -> 59674.222 | AB23: =SUM(J23,M23,P23) -> 60298.007
A24: 2034 | B24: ='T2'!B24*'Transformed-pop_x_region'!$L$4 -> 17875.275 | C24: ='T2'!C24*'Transformed-pop_x_region'!$M$4 -> 19704.644 | D24: ='T2'!C24*'Transformed-pop_x_region'!$O$4 -> 19910.62 | E24: ='T2'!E24*'Transformed-pop_x_region'!$L$4 -> 17901.949 | F24: ='T2'!F24*'Transformed-pop_x_region'!$M$4 -> 19677.642 | G24: ='T2'!F24*'Transformed-pop_x_region'!$O$4 -> 19883.336 | H24: ='T2'!H24*'Transformed-pop_x_region'!$L$4 -> 18065.331 | I24: ='T2'!I24*'Transformed-pop_x_region'!$M$4 -> 19751.898 | J24: ='T2'!I24*'Transformed-pop_x_region'!$O$4 -> 19958.368 | K24: ='T2'!K24*'Transformed-pop_x_region'!$L$4 -> 18272.059 | L24: ='T2'!L24*'Transformed-pop_x_region'!$M$4 -> 19883.532 | M24: ='T2'!L24*'Transformed-pop_x_region'!$O$4 -> 20091.378 | N24: ='T2'!N24*'Transformed-pop_x_region'!$L$4 -> 18558.81 | O24: ='T2'!O24*'Transformed-pop_x_region'!$M$4 -> 20062.42 | P24: ='T2'!O24*'Transformed-pop_x_region'!$O$4 -> 20272.136 | Q24: =SUM(B24,E24,H24,K24,N24) -> 90673.423 | S24: =SUM(C24,F24,I24,L24,O24) -> 99080.135 | T24: =SUM(P24,M24,J24,G24,D24) -> 100115.84 | U24: =SUM(B24,E24) -> 35777.224 | W24: =SUM(C24,F24) -> 39382.287 | X24: =SUM(D24,G24) -> 39793.956 | Y24: =SUM(H24,K24,N24) -> 54896.199 | AA24: =SUM(I24,L24,O24) -> 59697.849 | AB24: =SUM(J24,M24,P24) -> 60321.881
A25: 2035 | B25: ='T2'!B25*'Transformed-pop_x_region'!$L$4 -> 17828.594 | C25: ='T2'!C25*'Transformed-pop_x_region'!$M$4 -> 19785.65 | D25: ='T2'!C25*'Transformed-pop_x_region'!$O$4 -> 19992.473 | E25: ='T2'!E25*'Transformed-pop_x_region'!$L$4 -> 17891.946 | F25: ='T2'!F25*'Transformed-pop_x_region'!$M$4 -> 19735.021 | G25: ='T2'!F25*'Transformed-pop_x_region'!$O$4 -> 19941.315 | H25: ='T2'!H25*'Transformed-pop_x_region'!$L$4 -> 18045.325 | I25: ='T2'!I25*'Transformed-pop_x_region'!$M$4 -> 19789.025 | J25: ='T2'!I25*'Transformed-pop_x_region'!$O$4 -> 19995.883 | K25: ='T2'!K25*'Transformed-pop_x_region'!$L$4 -> 18225.378 | L25: ='T2'!L25*'Transformed-pop_x_region'!$M$4 -> 19903.783 | M25: ='T2'!L25*'Transformed-pop_x_region'!$O$4 -> 20111.841 | N25: ='T2'!N25*'Transformed-pop_x_region'!$L$4 -> 18442.109 | O25: ='T2'!O25*'Transformed-pop_x_region'!$M$4 -> 20069.17 | P25: ='T2'!O25*'Transformed-pop_x_region'!$O$4 -> 20278.957 | Q25: =SUM(B25,E25,H25,K25,N25) -> 90433.353 | S25: =SUM(C25,F25,I25,L25,O25) -> 99282.65 | T25: =SUM(P25,M25,J25,G25,D25) -> 100320.47 | U25: =SUM(B25,E25) -> 35720.541 | W25: =SUM(C25,F25) -> 39520.671 | X25: =SUM(D25,G25) -> 39933.788 | Y25: =SUM(H25,K25,N25) -> 54712.812 | AA25: =SUM(I25,L25,O25) -> 59761.978 | AB25: =SUM(J25,M25,P25) -> 60386.681
A26: 2036 | B26: ='T2'!B26*'Transformed-pop_x_region'!$L$4 -> 17858.603 | C26: ='T2'!C26*'Transformed-pop_x_region'!$M$4 -> 19893.658 | D26: ='T2'!C26*'Transformed-pop_x_region'!$O$4 -> 20101.609 | E26: ='T2'!E26*'Transformed-pop_x_region'!$L$4 -> 17878.609 | F26: ='T2'!F26*'Transformed-pop_x_region'!$M$4 -> 19819.402 | G26: ='T2'!F26*'Transformed-pop_x_region'!$O$4 -> 20026.578 | H26: ='T2'!H26*'Transformed-pop_x_region'!$L$4 -> 17995.31 | I26: ='T2'!I26*'Transformed-pop_x_region'!$M$4 -> 19849.779 | J26: ='T2'!I26*'Transformed-pop_x_region'!$O$4 -> 20057.273 | K26: ='T2'!K26*'Transformed-pop_x_region'!$L$4 -> 18185.366 | L26: ='T2'!L26*'Transformed-pop_x_region'!$M$4 -> 19940.911 | M26: ='T2'!L26*'Transformed-pop_x_region'!$O$4 -> 20149.357 | N26: ='T2'!N26*'Transformed-pop_x_region'!$L$4 -> 18388.76 | O26: ='T2'!O26*'Transformed-pop_x_region'!$M$4 -> 20092.797 | P26: ='T2'!O26*'Transformed-pop_x_region'!$O$4 -> 20302.83 | Q26: =SUM(B26,E26,H26,K26,N26) -> 90306.649 | S26: =SUM(C26,F26,I26,L26,O26) -> 99596.547 | T26: =SUM(P26,M26,J26,G26,D26) -> 100637.65 | U26: =SUM(B26,E26) -> 35737.212 | W26: =SUM(C26,F26) -> 39713.06 | X26: =SUM(D26,G26) -> 40128.188 | Y26: =SUM(H26,K26,N26) -> 54569.436 | AA26: =SUM(I26,L26,O26) -> 59883.487 | AB26: =SUM(J26,M26,P26) -> 60509.46
A27: 2037 | B27: ='T2'!B27*'Transformed-pop_x_region'!$L$4 -> 17905.284 | C27: ='T2'!C27*'Transformed-pop_x_region'!$M$4 -> 20021.917 | D27: ='T2'!C27*'Transformed-pop_x_region'!$O$4 -> 20231.209 | E27: ='T2'!E27*'Transformed-pop_x_region'!$L$4 -> 17861.938 | F27: ='T2'!F27*'Transformed-pop_x_region'!$M$4 -> 19930.785 | G27: ='T2'!F27*'Transformed-pop_x_region'!$O$4 -> 20139.125 | H27: ='T2'!H27*'Transformed-pop_x_region'!$L$4 -> 17988.642 | I27: ='T2'!I27*'Transformed-pop_x_region'!$M$4 -> 19934.16 | J27: ='T2'!I27*'Transformed-pop_x_region'!$O$4 -> 20142.536 | K27: ='T2'!K27*'Transformed-pop_x_region'!$L$4 -> 18135.352 | L27: ='T2'!L27*'Transformed-pop_x_region'!$M$4 -> 20005.04 | M27: ='T2'!L27*'Transformed-pop_x_region'!$O$4 -> 20214.157 | N27: ='T2'!N27*'Transformed-pop_x_region'!$L$4 -> 18372.088 | O27: ='T2'!O27*'Transformed-pop_x_region'!$M$4 -> 20129.924 | P27: ='T2'!O27*'Transformed-pop_x_region'!$O$4 -> 20340.346 | Q27: =SUM(B27,E27,H27,K27,N27) -> 90263.302 | S27: =SUM(C27,F27,I27,L27,O27) -> 100021.83 | T27: =SUM(P27,M27,J27,G27,D27) -> 101067.37 | U27: =SUM(B27,E27) -> 35767.221 | W27: =SUM(C27,F27) -> 39952.702 | X27: =SUM(D27,G27) -> 40370.334 | Y27: =SUM(H27,K27,N27) -> 54496.081 | AA27: =SUM(I27,L27,O27) -> 60069.125 | AB27: =SUM(J27,M27,P27) -> 60697.038
A28: 2038 | B28: ='T2'!B28*'Transformed-pop_x_region'!$L$4 -> 18001.979 | C28: ='T2'!C28*'Transformed-pop_x_region'!$M$4 -> 20167.052 | D28: ='T2'!C28*'Transformed-pop_x_region'!$O$4 -> 20377.862 | E28: ='T2'!E28*'Transformed-pop_x_region'!$L$4 -> 17975.304 | F28: ='T2'!F28*'Transformed-pop_x_region'!$M$4 -> 20059.044 | G28: ='T2'!F28*'Transformed-pop_x_region'!$O$4 -> 20268.725 | H28: ='T2'!H28*'Transformed-pop_x_region'!$L$4 -> 17998.645 | I28: ='T2'!I28*'Transformed-pop_x_region'!$M$4 -> 20045.543 | J28: ='T2'!I28*'Transformed-pop_x_region'!$O$4 -> 20255.083 | K28: ='T2'!K28*'Transformed-pop_x_region'!$L$4 -> 18132.017 | L28: ='T2'!L28*'Transformed-pop_x_region'!$M$4 -> 20089.421 | M28: ='T2'!L28*'Transformed-pop_x_region'!$O$4 -> 20299.42 | N28: ='T2'!N28*'Transformed-pop_x_region'!$L$4 -> 18332.076 | O28: ='T2'!O28*'Transformed-pop_x_region'!$M$4 -> 20194.054 | P28: ='T2'!O28*'Transformed-pop_x_region'!$O$4 -> 20405.146 | Q28: =SUM(B28,E28,H28,K28,N28) -> 90440.021 | S28: =SUM(C28,F28,I28,L28,O28) -> 100555.11 | T28: =SUM(P28,M28,J28,G28,D28) -> 101606.24 | U28: =SUM(B28,E28) -> 35977.283 | W28: =SUM(C28,F28) -> 40226.096 | X28: =SUM(D28,G28) -> 40646.587 | Y28: =SUM(H28,K28,N28) -> 54462.738 | AA28: =SUM(I28,L28,O28) -> 60329.019 | AB28: =SUM(J28,M28,P28) -> 60959.648

Sheet T5
A1: Population aged 4 and under | H1: Estimated resident population of Auckland age 0-4 as at June
B2: 0 Years | C2: 1 Years | D2: 2 Years | E2: 3 Years | F2: 4 Years | H2: Year | I2: Total | L2: 0 | M2: 1 | N2: 2 | O2: 3 | P2: 4
A3: 2015 | B3: =MROUND(FigureNZAKLU5PopEstimates[[#This Row],[Total]]*NationalU5Proportions[[#This Row],[0]],5) -> 21105 | C3: =MROUND(FigureNZAKLU5PopEstimates[[#This Row],[Total]]*NationalU5Proportions[[#This Row],[1]],5) -> 21155 | D3: =MROUND(FigureNZAKLU5PopEstimates[[#This Row],[Total]]*NationalU5Proportions[[#This Row],[2]],5) -> 21970 | E3: =MROUND(FigureNZAKLU5PopEstimates[[#This Row],[Total]]*NationalU5Proportions[[#This Row],[3]],5) -> 22385 | F3: =MROUND(FigureNZAKLU5PopEstimates[[#This Row],[Total]]*NationalU5Proportions[[#This Row],[4]],5) -> 22790 | H3: 2015 | I3: 109410 | L3: 0.19288359 | M3: 0.19337505 | N3: 0.20081256 | O3: 0.20461322 | P3: 0.20831559
A4: 2016 | B4: =MROUND(FigureNZAKLU5PopEstimates[[#This Row],[Total]]*NationalU5Proportions[[#This Row],[0]],5) -> 21315 | C4: =MROUND(FigureNZAKLU5PopEstimates[[#This Row],[Total]]*NationalU5Proportions[[#This Row],[1]],5) -> 21370 | D4: =MROUND(FigureNZAKLU5PopEstimates[[#This Row],[Total]]*NationalU5Proportions[[#This Row],[2]],5) -> 21525 | E4: =MROUND(FigureNZAKLU5PopEstimates[[#This Row],[Total]]*NationalU5Proportions[[#This Row],[3]],5) -> 22405 | F4: =MROUND(FigureNZAKLU5PopEstimates[[#This Row],[Total]]*NationalU5Proportions[[#This Row],[4]],5) -> 22730 | H4: 2016 | I4: 109340 | L4: 0.19493945 | M4: 0.19543172 | N4: 0.1968429 | O4: 0.20491615 | P4: 0.20786978
A5: 2017 | B5: =MROUND(FigureNZAKLU5PopEstimates[[#This Row],[Total]]*NationalU5Proportions[[#This Row],[0]],5) -> 21490 | C5: =MROUND(FigureNZAKLU5PopEstimates[[#This Row],[Total]]*NationalU5Proportions[[#This Row],[1]],5) -> 21425 | D5: =MROUND(FigureNZAKLU5PopEstimates[[#This Row],[Total]]*NationalU5Proportions[[#This Row],[2]],5) -> 21710 | E5: =MROUND(FigureNZAKLU5PopEstimates[[#This Row],[Total]]*NationalU5Proportions[[#This Row],[3]],5) -> 21860 | F5: =MROUND(FigureNZAKLU5PopEstimates[[#This Row],[Total]]*NationalU5Proportions[[#This Row],[4]],5) -> 22675 | H5: 2017 | I5: 109160 | L5: 0.19687745 | M5: 0.1962883 | N5: 0.19887405 | O5: 0.20024876 | P5: 0.20771144
A6: 2018 | B6: =MROUND(FigureNZAKLU5PopEstimates[[#This Row],[Total]]*NationalU5Proportions[[#This Row],[0]],5) -> 20970 | C6: =MROUND(FigureNZAKLU5PopEstimates[[#This Row],[Total]]*NationalU5Proportions[[#This Row],[1]],5) -> 21315 | D6: =MROUND(FigureNZAKLU5PopEstimates[[#This Row],[Total]]*NationalU5Proportions[[#This Row],[2]],5) -> 21445 | E6: =MROUND(FigureNZAKLU5PopEstimates[[#This Row],[Total]]*NationalU5Proportions[[#This Row],[3]],5) -> 21795 | F6: =MROUND(FigureNZAKLU5PopEstimates[[#This Row],[Total]]*NationalU5Proportions[[#This Row],[4]],5) -> 21910 | H6: 2018 | I6: 107440 | L6: 0.19516113 | M6: 0.19840671 | N6: 0.19961971 | O6: 0.20286529 | P6: 0.20394715
A7: 2019 | B7: =MROUND(FigureNZAKLU5PopEstimates[[#This Row],[Total]]*NationalU5Proportions[[#This Row],[0]],5) -> 21010 | C7: =MROUND(FigureNZAKLU5PopEstimates[[#This Row],[Total]]*NationalU5Proportions[[#This Row],[1]],5) -> 21050 | D7: =MROUND(FigureNZAKLU5PopEstimates[[#This Row],[Total]]*NationalU5Proportions[[#This Row],[2]],5) -> 21590 | E7: =MROUND(FigureNZAKLU5PopEstimates[[#This Row],[Total]]*NationalU5Proportions[[#This Row],[3]],5) -> 21765 | F7: =MROUND(FigureNZAKLU5PopEstimates[[#This Row],[Total]]*NationalU5Proportions[[#This Row],[4]],5) -> 22145 | H7: 2019 | I7: 107560 | L7: 0.19532964 | M7: 0.19568991 | N7: 0.20073363 | O7: 0.2023712 | P7: 0.20587561
A8: 2020 | B8: =MROUND(FigureNZAKLU5PopEstimates[[#This Row],[Total]]*NationalU5Proportions[[#This Row],[0]],5) -> 20810 | C8: =MROUND(FigureNZAKLU5PopEstimates[[#This Row],[Total]]*NationalU5Proportions[[#This Row],[1]],5) -> 21070 | D8: =MROUND(FigureNZAKLU5PopEstimates[[#This Row],[Total]]*NationalU5Proportions[[#This Row],[2]],5) -> 21255 | E8: =MROUND(FigureNZAKLU5PopEstimates[[#This Row],[Total]]*NationalU5Proportions[[#This Row],[3]],5) -> 21890 | F8: =MROUND(FigureNZAKLU5PopEstimates[[#This Row],[Total]]*NationalU5Proportions[[#This Row],[4]],5) -> 22015 | H8: 2020 | I8: 107040 | L8: 0.19439712 | M8: 0.19685452 | N8: 0.19859109 | O8: 0.20448886 | P8: 0.20566841
