Workbook

Sheet Sources and Contents
A1: Item | B1: Source | C1: File link (internal) or URL (external) | D1: Notes
A2: 5-and-under population by age | B2: Stats NZ Infoshare | C2: Population 5 and under 2015-2024.csv
A3: Stats NZ projected births | B3: Stats NZ | C3: Stats_NZ_Population_Projections.xlsx
A4: ECE participation by age | B4: Ministry of Education | C4: Participation in ECE 2000-2024.xlsx
A5: ECE teaching staff by full or part time status | B5: Ministry of Education | C5: ECE teaching staff by full or part time status 2011-2024.xlsx
A6: Hours worked | B6: Stats NZ IDI | C6: CONFIDENTIALISED ANZSIC activity dimensions.xlsx | D6: Sheet idi.anzsic_x_hoursworked. Used to adjust for FTE.
A7: Playcentre ratios and qualified staffing | B7: Playcentre NZ | C7: Supervision Requirements | Playcentre.org.nz
A8: Home-based and Centre-based Teacher-led ratios | B8: Legislation.govt.nz | C8: Education (Early Childhood Services) Amendment Regulations 2011 (SR 2011/198) Schedule New Schedule 2 substituted – New Zealand Legislation
A9: ECE services directory | B9: Ministry of Education | C9: Early Childhood Services | Education Counts | D9: As at 12 June 2025. Used as basis for 2025 demand.
A10: Licensed places information | B10: Ministry of Education | C10: Number of licensed ECE places 2000-2024.xlsx | D10: Used to forecast licensed places for Max Occupancy scenario.
A11: Market age breakdown | B11: Ministry of Education | C11: ECE participation 2021-2024 pivot - by age and service type.xlsx | D11: Used to calculate proportion of attendees in each age/age group.
A12: ECE teachers by qualification status | B12: Ministry of Education | C12: Number of teaching staff by qualification status (2011-2024) | D12: Used as base to calculate historic FTE workforce and qualified workforce.
A13: Observed adult:child ratios | B13: Ministry of Education | C13: ECE adult to child ratios 2023-2024.xlsx | D13: Used to calculate observed ratios for kindergarten + education & care services.
A14: 2025 roll numbers | B14: Ministry of Education | C14: ECE services directory.csv | D14: Live version should be the same. Proportions calculated in Power BI, exported then pasted in here.
A15: Stats NZ population forecast | B15: Statistics NZ Aotearoa Data Explorer | C15: Aotearoa Data Explorer • National population projections, by age and sex, 2024(base)-2078 | D15: Manually typed in - I'll update with values retrieved by API call once application to use the API is approved.
A17: Sheet label | B17: Type | C17: Description
A18: T1 | B18: Table | C18: Population under 5 2015-2024 with growth from migration values
A19: T2 | B19: Table | C19: Population forecast - Stats NZ
A20: T5 | B20: Table | C20: ECE participation rate calculation by age
A21: T6 | B21: Table | C21: Demand forecast - low participation in ECE
A22: T7 | B22: Table | C22: Demand forecast - medium participation in ECE
A23: T8 | B23: Table | C23: Demand forecast - high participation in ECE
A24: T15 | B24: Table | C24: Demand forecast - low as low participation, medium as medium participation, high as high participation
A25: T16 | B25: Table | C25: Ratios - by child age and service type, with multipliers for use in calculating required workforce size
A26: T17 | B26: Table | C26: Participation share and workforce demand for kindergartens and education & care services
A27: T18 | B27: Table | C27: Participation share (as headcount) and workforce demand by service type
A28: T19 | B28: Table | C28: Workforce demand forecasts - results for total and qualified workforce for kindergarten + education & care services
... A42: Opportunities | B42: List | C42: List of opportunities to extend or improve this product.

Sheet Assumptions
A1: Assumption | B1: Assumption details
A2: Migration | B2: Our migration calculations assume that border controls like those seen in 2021 and 2022 will not occur again in the forecast period.
A3: Market share | B3: Teacher demand projections assume that each service type will hold the mean market share that it has held between 2021-2025. This may result in an overestimation of the number of qualified teachers needed, because kindergarten market share has significantly reduced over that period while education & care market share has significantly increased.
A4: Regulatory settings - ratios | B4: We assume that regulatory requirements for adult-to-child ratios will remain the same.
A5: FTE | B5: We assume that - the average weekly work hours for ECE workers reported in the census are a suitable approximation of hours actually worked - that prior to 2018, average weekly hours worked were the same as they were at the time of the 2018 census - that work demands will continue to change at the same rate that they did between 2018 and 2023
A6: Workforce demand | B6: We assume that workforce demand is influenced by regulated ratios, that the demand for qualified teachers within the overall workforce is influenced by funding levels, and that ratios are relevant to the number of children actually in attendance at any given time.
A7: All services are all-day | B7: To simplify estimations, our model applies all-day ratios for all services and participants. See the Limitations table for information about how this impacts the accuracy of our estimates.
A8: Service types | B8: For the purposes of forecasting in the scenario of all licensed places being used, we assume that Puna Reo, Reo Rua Education and Care, Leo o Fanau Moana Bilingual, and Leo o Fanau Moana Immersion services have previously fallen under the Education and Care service type.
A9: Licensed places | B9: The proportion of places licensed for under-2s will follow historic trends, regardless of low rates of participation by under-2s.
A10: Attendance | B10: We assume that attendance will continue at the same rate it was measured in 2024 for service types covered in the ECE census hours of participation data, and that attendance at other service types will average 24 hours per week.
A11: Service types | B11: For the purpose of forecasting market share for services that require enrolment, we assume that attendance at Casual Education and Care + Hospital-based services is not relevant.
A12: Max occupancy | B12: The max occupancy scenario assumes that licensed places will continue to grow at the mean rate observed from 2015-2024, and that all licensed places will be in use all of the time. It does not account for the relationship between licensed places and service numbers or population.

Sheet Limitations
A1: Limitation | B1: Description
A2: Sessional services are not accounted for | B2: We do not have data about how many services are all-day and how many are sessional. To simplify estimations, our model applies all-day ratios for all services and participants. In reality, many services are sessional. Ratios for sessional services are different to all-day centre-based services. This means that our model will overestimate the number of full-time equivalent staff needed to meet market demand.
A3: New service types' old categorisations are unknown | B3: Four new service types have been introduced in 2025. We do not know which categories the services were in before the new types were introduced, so our forecast has placed all of them into the prior-existing service type that required the lowest concentration of qualified staff.
A4: New categories are not accounted for | B4: We do not have historic data about services in the new service types, so we have not distinguished them in our forecasting model.
A5: 5-year-olds are not accounted for | B5: Our model does not account for 5-year-olds attending ECE services.
A6: No staffing information for Kōhanga Reo | B6: The Ministry of Education does not publish statistical or demographic data about teachers in Kōhanga Reo services. As such, we cannot build Kōhanga Reo into our model in the same way that other centre-based, teacher-led services can be built in.
A7: Licensed places forecasting | B7: Forecasting of licensed places considers only historic patterns in licensed places. It does not consider the relationship between the number of enrolled children or the number of active services with the number of licensed places.
A8: Market breakdown by age | B8: The total numbers returned by the Education Counts participation pivot table for age x service type are significantly higher than the total numbers returned in single-dimension tables from the ECE census. To mitigate this limitation, the proportions for each age are calculated using the pivot table, then applied over the total numbers from the participation by service type file.
A9: Accuracy differs between levels of detail | B9: This model has tested well when used as a high-level overview tool, but results are less accurate when looking at detailed parts. Model results for specific service types are likely to be further from reality due to our model's use of mean averages to predict potential future demand. For example, results for the number of children expected to attend home-based services will likely be well above actual attendance, and results for the number of children expected to attend education and care services will likely be below actual numbers. Both of these service types have strong and enduring trends that are not reflected when we use observed means to predict demand.
A10: Hindcast model is speculative | B10: The hindcast model used to produce chart C5 relies heavily on assumptions. We recommend using actual numbers for prior years when considering long term trends.
A11: Data on ratios is limited | B11: Data about actual ratios are only available for 2023 and 2024, so we have been unable to account for trends in actual ratios in our workforce forecasts. Because of this, we expect that the accuracy of workforce forecasts using this model will improve as additional data are made available.

Sheet Definitions
A1: Term | B1: Description
A2: Low participation | B2: The lowest observed rate of participation in ECE for the period 2015-2024. Calculated using age-specific participation numbers.
A3: Medium participation | B3: The mean observed rate of participation in ECE for the period 2015-2024. Calculated using age-specific participation numbers.
A4: High participation | B4: The maximum observed rate of participation in ECE for the period 2015-2024. Calculated using age-specific participation numbers.
A5: Population | B5: The number of people of each age for each year. Source data was Aotearoa Data Explorer National Population Projection by year and age values.
A6: FTE | B6: Full-time (40 hours) equivalents. 'FTE' describes the number of people needed to do the work if each person worked 40 hours. In practice, FTE can be shared across multiple staff members, so headcounts are usually much higher than FTE.
A7: Low workforce demand | B7: Minimum required staffing assuming that the lowest-demand scenario occurs.
A8: Medium workforce demand | B8: Minimum required staffing assuming that the medium-demand scenario occurs.
A9: High workforce demand | B9: Minimum required staffing assuming that the high-demand scenario occurs.
A10: Realised demand | B10: The number of FTE that the model expects would have been needed to achieve minimum regulated ratios.
A11: Market share | B11: The percentage of participants in a specific service type. Calculated as (number of participants in service type)/(total number of participants)
A12: Low qualified workforce demand | B12: Minimum required staffing assuming that the lowest demand scenario occurs and providers choose to hire the minimum regulated or targeted amount of qualified teachers for their service type.
... A14: High qualified workforce demand | B14: Minimum required qualified FTE workforce assuming that the highest demand scenario occurs and providers choose to hire or train all of their staff to be qualified teachers.

Sheet Methodology
A1: METHODOLOGY
A2: Overview - flow chart
A5: Demand for ECE places
A6: Approach
A7: Stats NZ population estimates are used as the starting value. To estimate demand for ECE places for each age group (Under-2, 2, and 3+), observed rates of participation in ECE are applied to per-age population predictions. To estimate demand for places in each service type, the estimated demand is modified by the observed share of participation for each service type. Mean share of participation is used for this step, as mean shares sum to 1. To estimate the number of adult staff needed in the ECE industry, the estimated demand for service type is multiplied by the proportionalised adult-to-child ratio. To estimate the number of qualified teachers needed in the ECE industry, the estimated number of adult staff needed is multiplied by the service type's targeted (Kindergarten) or regulated (other service types) percentage of qualified teachers. 50% (or targeted (Kindergarten) or regulated (Home-based) minimum), 80%, and 100% scenarios are calculated to produce Low, Medium, and High demand scenarios. These percentages are based on the thresholds for funding bands. A fourth scenario, in which all service types operate at 100% occupancy, is also allowed for. This scenario is labelled 'Maximum occupancy'. The maximum occupancy scenario assumes that all licensed places in all services will be in use all of the time. It uses observed mean rates of change in the number of licensed places for each service type, and applies minimum ratios to predict the size of the workforce necessary to support the industry if every licensed place was occupied in every hour it was available. All numbers are rounded to the nearest multiple of 5, unless this would result in a zero. Where results would be zero, they are rounded to the nearest whole number.
A9: Starting variables
A10: Symbol | B10: Description | C10: Equation
A11: a1 | B11: Stats NZ actual population estimate by age for years 2015-2024
A12: a2 | B12: Stats NZ population estimate by age for years 2025-2035
A13: d | B13: Observed ECE participation rate for age (0-4) | C13: number of people participating in ECE ÷ number of people in population of interest
A14: e | B14: Market share for service type | C14: number of people participating in service type ÷ number of people participating in ECE
A15: f | B15: Total staff ratio multiplier | C15: stated number of adults ÷ stated number of children
A16: g | B16: Qualified staff percentage
A17: h | B17: Number of licensed places | C17: prior year's # licensed places * (1 + applicable change multiplier)
A18: i | B18: Average hours worked as reported in census for ANZSIC (either average or derived from average using straight-line method)
B20: FOR EACH age in {0, 1, 2, 3, 4}
A22: j | B22: Expected population = | C22: a1 for cohorts born prior to 2025 or a2 for future cohorts
A23: k | B23: Expected total demand for ECE places = | C23: j * d
B24: FOR EACH service type
A25: l | B25: Expected demand for ECE places = | C25: ( j * d ) * e
A26: m | B26: Expected FTE workforce needed = | C26: i * (sum all ( l * f ) results)
A27: n | B27: Expected qualified FTE teachers needed = | C27: i * ( sum all ( m * g ) results )
A29: Workforce supply
A30: ECE census data indicates steady growth in the workforce from 2016-2024 with all data points fitting well to a straight trend line. Because of this, our workforce supply estimates take a simple straight-line approach. Improving supply modelling is an opportunity identified in the Opportunities page.

Sheet Opportunities
A1: OPPORTUNITIES FOR FURTHER ANALYSIS
B3: Forecasting for individual service types on the basis of market patterns at the service type level could enable analysis of potential future market share and improve accuracy of results for specific service types and therefore, for workforce projections.
B4: Exploration of the relationship between licensed places, population, demand, supply, and service numbers could inform improved forecasting of licensed places.
B5: Re-running the analysis with regional under-5 population and predicted birth numbers could inform the sector's strategic decisions.
B6: Relating these data to other data about the ethnic and cultural makeup of the population could help to identify specific skills that may provide an advantage to suppliers and job candidates.
B7: Extending teacher supply forecasting using a similar methodology to the demand modelling could improve the value of this model in workforce planning.
B8: Extending the modelled demand scenarios to account for changes in parental employment may improve the accuracy of demand forecasting.
B9: Allowing for different work pattern scenarios may increase accuracy of workforce need projections.
B10: Sourcing better information about teachers in Kōhanga Reo may increase accuracy of workforce need projections.
B11: Updating observed ratio inputs as more data are published will improve accuracy of workforce need projections.

Sheet T1
A1: Starting population | I1: year-on-year % change in cohort size
A2: Year | B2: 0 Years | C2: 1 Years | D2: 2 Years | E2: 3 Years | F2: 4 Years | G2: 5 Years | H2: Total | I2: 0 Years | J2: 1 Years | K2: 2 Years | L2: 3 Years | M2: 4 Years | N2: 5 Years
A3: 2015 | B3: 58870 | C3: 59020 | D3: 61290 | E3: 62450 | F3: 63580 | G3: 65080 | H3: =SUM(B3:G3) -> 370290
A4: 2016 | B4: 59400 | C4: 59550 | D4: 59980 | E4: 62440 | F4: 63340 | G4: 64400 | H4: =SUM(B4:G4) -> 369110 | I4: =(B4/B3)-1 -> 0.0090028877 | J4: =(C4/C3)-1 -> 0.0089800068 | K4: =(D4/D3)-1 -> -0.021373797 | L4: =(E4/E3)-1 -> -0.0001601281 | M4: =(F4/F3)-1 -> -0.0037747719 | N4: =(G4/G3)-1 -> -0.010448679 | P4: =SUM(B4:C4) -> 118950 | Q4: =SUM(D4:F4) -> 185760 | S4: 185760
A5: 2017 | B5: 60150 | C5: 59970 | D5: 60760 | E5: 61180 | F5: 63460 | G5: 64350 | H5: =SUM(B5:G5) -> 369870 | I5: =(B5/B4)-1 -> 0.012626263 | J5: =(C5/C4)-1 -> 0.0070528967 | K5: =(D5/D4)-1 -> 0.013004335 | L5: =(E5/E4)-1 -> -0.020179372 | M5: =(F5/F4)-1 -> 0.0018945374 | N5: =(G5/G4)-1 -> -0.00077639752 | P5: =SUM(B5:C5) -> 120120 | Q5: =SUM(D5:F5) -> 185400 | S5: 185400
A6: 2018 | B6: 59530 | C6: 60520 | D6: 60890 | E6: 61880 | F6: 62210 | G6: 64430 | H6: =SUM(B6:G6) -> 369460 | I6: =(B6/B5)-1 -> -0.010307564 | J6: =(C6/C5)-1 -> 0.0091712523 | K6: =(D6/D5)-1 -> 0.0021395655 | L6: =(E6/E5)-1 -> 0.011441648 | M6: =(F6/F5)-1 -> -0.019697447 | N6: =(G6/G5)-1 -> 0.0012432012 | P6: =SUM(B6:C6) -> 120050 | Q6: =SUM(D6:F6) -> 184980 | S6: 184980
A7: 2019 | B7: 59640 | C7: 59750 | D7: 61290 | E7: 61790 | F7: 62860 | G7: 63270 | H7: =SUM(B7:G7) -> 368600 | I7: =(B7/B6)-1 -> 0.0018478078 | J7: =(C7/C6)-1 -> -0.012723067 | K7: =(D7/D6)-1 -> 0.0065692232 | L7: =(E7/E6)-1 -> -0.0014544279 | M7: =(F7/F6)-1 -> 0.010448481 | N7: =(G7/G6)-1 -> -0.018004035 | P7: =SUM(B7:C7) -> 119390 | Q7: =SUM(D7:F7) -> 185940 | S7: 185940
A8: 2020 | B8: 59330 | C8: 60080 | D8: 60610 | E8: 62410 | F8: 62770 | G8: 63900 | H8: =SUM(B8:G8) -> 369100 | I8: =(B8/B7)-1 -> -0.0051978538 | J8: =(C8/C7)-1 -> 0.0055230126 | K8: =(D8/D7)-1 -> -0.011094795 | L8: =(E8/E7)-1 -> 0.010033986 | M8: =(F8/F7)-1 -> -0.0014317531 | N8: =(G8/G7)-1 -> 0.0099573257 | P8: =SUM(B8:C8) -> 119410 | Q8: =SUM(D8:F8) -> 185790 | S8: 185790
A9: 2021 | B9: 60860 | C9: 59520 | D9: 60420 | E9: 60930 | F9: 62640 | G9: 62990 | H9: =SUM(B9:G9) -> 367360 | I9: =(B9/B8)-1 -> 0.025787966 | J9: =(C9/C8)-1 -> -0.0093209055 | K9: =(D9/D8)-1 -> -0.0031347962 | L9: =(E9/E8)-1 -> -0.023714148 | M9: =(F9/F8)-1 -> -0.0020710531 | N9: =(G9/G8)-1 -> -0.014241002 | P9: =SUM(B9:C9) -> 120380 | Q9: =SUM(D9:F9) -> 183990 | S9: 183990
A10: 2022 | B10: 60340 | C10: 60720 | D10: 59670 | E10: 60840 | F10: 61160 | G10: 62710 | H10: =SUM(B10:G10) -> 365440 | I10: =(B10/B9)-1 -> -0.0085441998 | J10: =(C10/C9)-1 -> 0.02016129 | K10: =(D10/D9)-1 -> -0.012413108 | L10: =(E10/E9)-1 -> -0.0014771049 | M10: =(F10/F9)-1 -> -0.023627075 | N10: =(G10/G9)-1 -> -0.00444515 | P10: =SUM(B10:C10) -> 121060 | Q10: =SUM(D10:F10) -> 181670 | S10: 181670
A11: 2023 | B11: 56840 | C11: 60790 | D11: 61490 | E11: 60840 | F11: 62350 | G11: 62620 | H11: =SUM(B11:G11) -> 364930 | I11: =(B11/B10)-1 -> -0.05800464 | J11: =(C11/C10)-1 -> 0.0011528327 | K11: =(D11/D10)-1 -> 0.030501089 | L11: =(E11/E10)-1 -> 0 | M11: =(F11/F10)-1 -> 0.019457162 | N11: =(G11/G10)-1 -> -0.0014351778 | P11: =SUM(B11:C11) -> 117630 | Q11: =SUM(D11:F11) -> 184680 | S11: 184680
A12: 2024 | B12: 57070 | C12: 57190 | D12: 61700 | E12: 62510 | F12: 62230 | G12: 63930 | H12: =SUM(B12:G12) -> 364630 | I12: =(B12/B11)-1 -> 0.0040464462 | J12: =(C12/C11)-1 -> -0.059220266 | K12: =(D12/D11)-1 -> 0.0034151895 | L12: =(E12/E11)-1 -> 0.027449047 | M12: =(F12/F11)-1 -> -0.0019246191 | N12: =(G12/G11)-1 -> 0.020919834 | P12: =SUM(B12:C12) -> 114260 | Q12: =SUM(D12:F12) -> 186440 | S12: 186440
A14: Net migration increase
A15: 2015
A16: 2016 | C16: =C4-B3 -> 680 | D16: =D4-C3 -> 960 | E16: =E4-D3 -> 1150 | F16: =F4-E3 -> 890 | G16: =G4-F3 -> 820
A17: 2017 | C17: =C5-B4 -> 570 | D17: =D5-C4 -> 1210 | E17: =E5-D4 -> 1200 | F17: =F5-E4 -> 1020 | G17: =G5-F4 -> 1010
A18: 2018 | C18: =C6-B5 -> 370 | D18: =D6-C5 -> 920 | E18: =E6-D5 -> 1120 | F18: =F6-E5 -> 1030 | G18: =G6-F5 -> 970
A19: 2019 | C19: =C7-B6 -> 220 | D19: =D7-C6 -> 770 | E19: =E7-D6 -> 900 | F19: =F7-E6 -> 980 | G19: =G7-F6 -> 1060
A20: 2020 | C20: =C8-B7 -> 440 | D20: =D8-C7 -> 860 | E20: =E8-D7 -> 1120 | F20: =F8-E7 -> 980 | G20: =G8-F7 -> 1040
A21: 2021 | C21: =C9-B8 -> 190 | D21: =D9-C8 -> 340 | E21: =E9-D8 -> 320 | F21: =F9-E8 -> 230 | G21: =G9-F8 -> 220
A22: 2022 | C22: =C10-B9 -> -140 | D22: =D10-C9 -> 150 | E22: =E10-D9 -> 420 | F22: =F10-E9 -> 230 | G22: =G10-F9 -> 70
A23: 2023 | C23: =C11-B10 -> 450 | D23: =D11-C10 -> 770 | E23: =E11-D10 -> 1170 | F23: =F11-E10 -> 1510 | G23: =G11-F10 -> 1460
A24: 2024 | C24: =C12-B11 -> 350 | D24: =D12-C11 -> 910 | E24: =E12-D11 -> 1020 | F24: =F12-E11 -> 1390 | G24: =G12-F11 -> 1580
G25: Estimated total increase in under-6 population arising from migration | H25: =SUM(C16:G24) -> 34930
A27: Net % increase from migration
A28: 2015
A29: 2016 | C29: =C16/B3 -> 0.011550875 | D29: =D16/C3 -> 0.016265673 | E29: =E16/D3 -> 0.018763257 | F29: =F16/E3 -> 0.014251401 | G29: =G16/F3 -> 0.012897137
A30: 2017 | C30: =C17/B4 -> 0.0095959596 | D30: =D17/C4 -> 0.02031906 | E30: =E17/D4 -> 0.020006669 | F30: =F17/E4 -> 0.016335682 | G30: =G17/F4 -> 0.01594569
A31: 2018 | C31: =C18/B5 -> 0.0061512884 | D31: =D18/C5 -> 0.015341004 | E31: =E18/D5 -> 0.01843318 | F31: =F18/E5 -> 0.016835567 | G31: =G18/F5 -> 0.015285219
A32: 2019 | C32: =C19/B6 -> 0.0036956157 | D32: =D19/C6 -> 0.012723067 | E32: =E19/D6 -> 0.014780752 | F32: =F19/E6 -> 0.015837104 | G32: =G19/F6 -> 0.017039061
A33: 2020 | C33: =C20/B7 -> 0.0073775989 | D33: =D20/C7 -> 0.014393305 | E33: =E20/D7 -> 0.01827378 | F33: =F20/E7 -> 0.015860172 | G33: =G20/F7 -> 0.016544703
A34: 2021 | C34: =C21/B8 -> 0.0032024271 | D34: =D21/C8 -> 0.0056591212 | E34: =E21/D8 -> 0.0052796568 | F34: =F21/E8 -> 0.0036853068 | G34: =G21/F8 -> 0.003504859
A35: 2022 | C35: =C22/B9 -> -0.0023003615 | D35: =D22/C9 -> 0.0025201613 | E35: =E22/D9 -> 0.0069513406 | F35: =F22/E9 -> 0.0037748236 | G35: =G22/F9 -> 0.0011174968
A36: 2023 | C36: =C23/B10 -> 0.0074577395 | D36: =D23/C10 -> 0.012681159 | E36: =E23/D10 -> 0.019607843 | F36: =F23/E10 -> 0.024819198 | G36: =G23/F10 -> 0.023871812
A37: 2024 | C37: =C24/B11 -> 0.0061576355 | D37: =D24/C11 -> 0.014969567 | E37: =E24/D11 -> 0.016588063 | F37: =F24/E11 -> 0.022846811 | G37: =G24/F11 -> 0.025340818
A41: Min | C41: =MIN(C29:C37) -> -0.0023003615 | D41: =MIN(D29:D37) -> 0.0025201613 | E41: =MIN(E29:E37) -> 0.0052796568 | F41: =MIN(F29:F37) -> 0.0036853068 | G41: =MIN(G29:G37) -> 0.0011174968
A42: Mean | C42: =AVERAGE(C29:C37) -> 0.0058765309 | D42: =AVERAGE(D29:D37) -> 0.012763569 | E42: =AVERAGE(E29:E37) -> 0.015409394 | F42: =AVERAGE(F29:F37) -> 0.01491623 | G42: =AVERAGE(G29:G37) -> 0.014616311
A43: Median | C43: =MEDIAN(C29:C37) -> 0.0061576355 | D43: =MEDIAN(D29:D37) -> 0.014393305 | E43: =MEDIAN(E29:E37) -> 0.01827378 | F43: =MEDIAN(F29:F37) -> 0.015860172 | G43: =MEDIAN(G29:G37) -> 0.01594569
A44: Max | C44: =MAX(C29:C37) -> 0.011550875 | D44: =MAX(D29:D37) -> 0.02031906 | E44: =MAX(E29:E37) -> 0.020006669 | F44: =MAX(F29:F37) -> 0.024819198 | G44: =MAX(G29:G37) -> 0.025340818

Sheet T2
A1: POPULATION FORECAST: STATS NZ GRNULAR POPULATION FORECASTS
A2: Applied rate of increase | F2: 0.0036956157 | I2: 0.012681159 | L2: 0.014780752 | O2: 0.014251401
B3: 0 years* | E3: 1 years | H3: 2 years | K3: 3 years | N3: 4 years | Q3: Total | U3: Total under 2s | Y3: Total 2+s
A4: Year | B4: Low | C4: Median | D4: High | E4: Low | F4: Median | G4: High | H4: Low | I4: Median | J4: High | K4: Low | L4: Median | M4: High | N4: Low | O4: Median | P4: High | Q4: Low | R4: Actual | S4: Median | T4: High | U4: Low | V4: Actual | W4: Medium | X4: High | Y4: Low | Z4: Actual | AA4: Medium | AB4: High
A5: 2015 | C5: 58870 | F5: 59020 | I5: 61290 | L5: 62450 | O5: 63580 | R5: =SUM(C5,F5,I5,L5,O5) -> 305210 | V5: =SUM(C5,F5) -> 117890 | Z5: =SUM(I5,L5,O5) -> 187320
A6: 2016 | C6: 59400 | F6: 59550 | I6: 59980 | L6: 62440 | O6: 63340 | R6: =SUM(C6,F6,I6,L6,O6) -> 304710 | V6: =SUM(C6,F6) -> 118950 | Z6: =SUM(I6,L6,O6) -> 185760
A7: 2017 | C7: 60150 | F7: 59970 | I7: 60760 | L7: 61180 | O7: 63460 | R7: =SUM(C7,F7,I7,L7,O7) -> 305520 | V7: =SUM(C7,F7) -> 120120 | Z7: =SUM(I7,L7,O7) -> 185400
A8: 2018 | C8: 59530 | F8: 60520 | I8: 60890 | L8: 61880 | O8: 62210 | R8: =SUM(C8,F8,I8,L8,O8) -> 305030 | V8: =SUM(C8,F8) -> 120050 | Z8: =SUM(I8,L8,O8) -> 184980
A9: 2019 | C9: 59640 | F9: 59750 | I9: 61290 | L9: 61790 | O9: 62860 | R9: =SUM(C9,F9,I9,L9,O9) -> 305330 | V9: =SUM(C9,F9) -> 119390 | Z9: =SUM(I9,L9,O9) -> 185940
A10: 2020 | C10: 59330 | F10: 60080 | I10: 60610 | L10: 62410 | O10: 62770 | R10: =SUM(C10,F10,I10,L10,O10) -> 305200 | V10: =SUM(C10,F10) -> 119410 | Z10: =SUM(I10,L10,O10) -> 185790
A11: 2021 | C11: 60860 | F11: 59520 | I11: 60420 | L11: 60930 | O11: 62640 | R11: =SUM(C11,F11,I11,L11,O11) -> 304370 | V11: =SUM(C11,F11) -> 120380 | Z11: =SUM(I11,L11,O11) -> 183990
A12: 2022 | C12: 60340 | F12: 60720 | I12: 59670 | L12: 60840 | O12: 61160 | R12: =SUM(C12,F12,I12,L12,O12) -> 302730 | V12: =SUM(C12,F12) -> 121060 | Z12: =SUM(I12,L12,O12) -> 181670
A13: 2023 | C13: 56840 | F13: 60790 | I13: 61490 | L13: 60840 | O13: 62350 | R13: =SUM(C13,F13,I13,L13,O13) -> 302310 | V13: =SUM(C13,F13) -> 117630 | Z13: =SUM(I13,L13,O13) -> 184680
A14: 2024 | C14: 57070 | F14: 57190 | I14: 61700 | L14: 62510 | O14: 62230 | Q14: 300700 | R14: =SUM(C14,F14,I14,L14,O14) -> 300700 | S14: 300700 | T14: 300700 | U14: =V14 -> 114260 | V14: =SUM(C14,F14) -> 114260 | W14: =V14 -> 114260 | X14: =V14 -> 114260 | Y14: =Z14 -> 186440 | Z14: =SUM(I14,L14,O14) -> 186440 | AA14: =Z14 -> 186440 | AB14: =Z14 -> 186440
A15: 2025 | B15: 56850 | C15: 58130 | D15: 59320 | E15: 56790 | F15: 57030 | G15: 57240 | H15: 57140 | I15: 57380 | J15: 57570 | K15: 61720 | L15: 61980 | M15: 62170 | N15: 62610 | O15: 62890 | P15: 63050 | Q15: =SUM(B15,E15,H15,K15,N15) -> 295110 | S15: =SUM(C15,F15,I15,L15,O15) -> 297410 | T15: =SUM(D15,G15,J15,M15,P15) -> 299350 | U15: =SUM(B15,E15) -> 113640 | W15: =SUM(C15,F15) -> 115160 | X15: =SUM(D15,F15) -> 116350 | Y15: =SUM(I15,L15,O15) -> 182250 | AA15: =SUM(I15,L15,O15) -> 182250 | AB15: =SUM(I15,L15,O15) -> 182250
A16: 2026 | B16: 56100 | C16: 58140 | D16: 59990 | E16: 56510 | F16: 58120 | G16: 59390 | H16: 56880 | I16: 57260 | J16: 57580 | K16: 57290 | L16: 57700 | M16: 58050 | N16: 61950 | O16: 62400 | P16: 62760 | Q16: =SUM(B16,E16,H16,K16,N16) -> 288730 | S16: =SUM(C16,F16,I16,L16,O16) -> 293620 | T16: =SUM(O16,L16,I16,G16,D16) -> 296740 | U16: =SUM(B16,E16) -> 112610 | W16: =SUM(C16,F16) -> 116260 | X16: =SUM(D16,G16) -> 119380 | Y16: =SUM(I16,L16,O16) -> 177360 | AA16: =SUM(I16,L16,O16) -> 177360 | AB16: =SUM(I16,L16,O16) -> 177360
A17: 2027 | B17: 55500 | C17: 58130 | D17: 60480 | E17: 56090 | F17: 58160 | G17: 60080 | H17: 56750 | I17: 58380 | J17: 59670 | K17: 57060 | L17: 57620 | M17: 58130 | N17: 57540 | O17: 58160 | P17: 58710 | Q17: =SUM(B17,E17,H17,K17,N17) -> 282940 | S17: =SUM(C17,F17,I17,L17,O17) -> 290450 | T17: =SUM(O17,L17,J17,G17,D17) -> 296010 | U17: =SUM(B17,E17) -> 111590 | W17: =SUM(C17,F17) -> 116290 | X17: =SUM(D17,G17) -> 120560 | Y17: =SUM(H17,L17,O17) -> 172530 | AA17: =SUM(I17,L17,O17) -> 174160 | AB17: =SUM(J17,L17,O17) -> 175450
A18: 2028 | B18: 55090 | C18: 58100 | D18: 60960 | E18: 55470 | F18: 58170 | G18: 60580 | H18: 56360 | I18: 58450 | J18: 60380 | K18: 57080 | L18: 58770 | M18: 60140 | N18: 57370 | O18: 58110 | P18: 58750 | Q18: =SUM(B18,E18,H18,K18,N18) -> 281370 | S18: =SUM(C18,F18,I18,L18,O18) -> 291600 | T18: =SUM(O18,M18,J18,G18,D18) -> 300170 | U18: =SUM(B18,E18) -> 110560 | W18: =SUM(C18,F18) -> 116270 | X18: =SUM(D18,G18) -> 121540 | Y18: =SUM(H18,K18,O18) -> 171550 | AA18: =SUM(I18,L18,O18) -> 175330 | AB18: =SUM(J18,M18,O18) -> 178630
A19: 2029 | B19: 54710 | C19: 58070 | D19: 61270 | E19: 55080 | F19: 58160 | G19: 61040 | H19: 55840 | I19: 58480 | J19: 60890 | K19: 56710 | L19: 58860 | M19: 60930 | N19: 57560 | O19: 59280 | P19: 60690 | Q19: =SUM(B19,E19,H19,K19,N19) -> 279900 | S19: =SUM(C19,F19,I19,L19,O19) -> 292850 | T19: =SUM(P19,M19,J19,G19,D19) -> 304820 | U19: =SUM(B19,E19) -> 109790 | W19: =SUM(C19,F19) -> 116230 | X19: =SUM(D19,G19) -> 122310 | Y19: =SUM(H19,K19,N19) -> 170110 | AA19: =SUM(I19,L19,O19) -> 176620 | AB19: =SUM(J19,M19,P19) -> 182510
A20: 2030 | B20: 54380 | C20: 58050 | D20: 61580 | E20: 54780 | F20: 58140 | G20: 61390 | H20: 55390 | I20: 58480 | J20: 61390 | K20: 56270 | L20: 58900 | M20: 61310 | N20: 57170 | O20: 59390 | P20: 61590 | Q20: =SUM(B20,E20,H20,K20,N20) -> 277990 | S20: =SUM(C20,F20,I20,L20,O20) -> 292960 | T20: =SUM(P20,M20,J20,G20,D20) -> 307260 | U20: =SUM(B20,E20) -> 109160 | W20: =SUM(C20,F20) -> 116190 | X20: =SUM(D20,G20) -> 122970 | Y20: =SUM(H20,K20,N20) -> 168830 | AA20: =SUM(I20,L20,O20) -> 176770 | AB20: =SUM(J20,M20,P20) -> 184290
A21: 2031 | B21: 53950 | C21: 58060 | D21: 61880 | E21: 54460 | F21: 58130 | G21: 61620 | H21: 55050 | I21: 58460 | J21: 61650 | K21: 55820 | L21: 58910 | M21: 61830 | N21: 56810 | O21: 59440 | P21: 61910 | Q21: =SUM(B21,E21,H21,K21,N21) -> 276090 | S21: =SUM(C21,F21,I21,L21,O21) -> 293000 | T21: =SUM(P21,M21,J21,G21,D21) -> 308890 | U21: =SUM(B21,E21) -> 108410 | W21: =SUM(C21,F21) -> 116190 | X21: =SUM(D21,G21) -> 123500 | Y21: =SUM(H21,K21,N21) -> 167680 | AA21: =SUM(I21,L21,O21) -> 176810 | AB21: =SUM(J21,M21,P21) -> 185390
A22: 2032 | B22: 53760 | C22: 58100 | D22: 62280 | E22: 54010 | F22: 58140 | G22: 61970 | H22: 54790 | I22: 58450 | J22: 62010 | K22: 55470 | L22: 58900 | M22: 62200 | N22: 56310 | O22: 59450 | P22: 62410 | Q22: =SUM(B22,E22,H22,K22,N22) -> 274340 | S22: =SUM(C22,F22,I22,L22,O22) -> 293040 | T22: =SUM(P22,M22,J22,G22,D22) -> 310870 | U22: =SUM(B22,E22) -> 107770 | W22: =SUM(C22,F22) -> 116240 | X22: =SUM(D22,G22) -> 124250 | Y22: =SUM(H22,K22,N22) -> 166570 | AA22: =SUM(I22,L22,O22) -> 176800 | AB22: =SUM(J22,M22,P22) -> 186620
A23: 2033 | B23: 53570 | C23: 58210 | D23: 62710 | E23: 53870 | F23: 58190 | G23: 62280 | H23: 54370 | I23: 58470 | J23: 62300 | K23: 55180 | L23: 58890 | M23: 62620 | N23: 55930 | O23: 59440 | P23: 62770 | Q23: =SUM(B23,E23,H23,K23,N23) -> 272920 | S23: =SUM(C23,F23,I23,L23,O23) -> 293200 | T23: =SUM(P23,M23,J23,G23,D23) -> 312680 | U23: =SUM(B23,E23) -> 107440 | W23: =SUM(C23,F23) -> 116400 | X23: =SUM(D23,G23) -> 124990 | Y23: =SUM(H23,K23,N23) -> 165480 | AA23: =SUM(I23,L23,O23) -> 176800 | AB23: =SUM(J23,M23,P23) -> 187690
A24: 2034 | B24: 53610 | C24: 58380 | D24: 62970 | E24: 53690 | F24: 58300 | G24: 62780 | H24: 54180 | I24: 58520 | J24: 62600 | K24: 54800 | L24: 58910 | M24: 62800 | N24: 55660 | O24: 59440 | P24: 63130 | Q24: =SUM(B24,E24,H24,K24,N24) -> 271940 | S24: =SUM(C24,F24,I24,L24,O24) -> 293550 | T24: =SUM(P24,M24,J24,G24,D24) -> 314280 | U24: =SUM(B24,E24) -> 107300 | W24: =SUM(C24,F24) -> 116680 | X24: =SUM(D24,G24) -> 125750 | Y24: =SUM(H24,K24,N24) -> 164640 | AA24: =SUM(I24,L24,O24) -> 176870 | AB24: =SUM(J24,M24,P24) -> 188530
A25: 2035 | B25: 53470 | C25: 58620 | D25: 63520 | E25: 53660 | F25: 58470 | G25: 63090 | H25: 54120 | I25: 58630 | J25: 63070 | K25: 54660 | L25: 58970 | M25: 63030 | N25: 55310 | O25: 59460 | P25: 63380 | Q25: =SUM(B25,E25,H25,K25,N25) -> 271220 | S25: =SUM(C25,F25,I25,L25,O25) -> 294150 | T25: =SUM(P25,M25,J25,G25,D25) -> 316090 | U25: =SUM(B25,E25) -> 107130 | W25: =SUM(C25,F25) -> 117090 | X25: =SUM(D25,G25) -> 126610 | Y25: =SUM(H25,K25,N25) -> 164090 | AA25: =SUM(I25,L25,O25) -> 177060 | AB25: =SUM(J25,M25,P25) -> 189480
A26: 2036 | B26: 53560 | C26: 58940 | D26: 64060 | E26: 53620 | F26: 58720 | G26: 63690 | H26: 53970 | I26: 58810 | J26: 63430 | K26: 54540 | L26: 59080 | M26: 63480 | N26: 55150 | O26: 59530 | P26: 63620 | Q26: =SUM(B26,E26,H26,K26,N26) -> 270840 | S26: =SUM(C26,F26,I26,L26,O26) -> 295080 | T26: =SUM(P26,M26,J26,G26,D26) -> 318280 | U26: =SUM(B26,E26) -> 107180 | W26: =SUM(C26,F26) -> 117660 | X26: =SUM(D26,G26) -> 127750 | Y26: =SUM(H26,K26,N26) -> 163660 | AA26: =SUM(I26,L26,O26) -> 177420 | AB26: =SUM(J26,M26,P26) -> 190530
A27: 2037 | B27: 53700 | C27: 59320 | D27: 64680 | E27: 53570 | F27: 59050 | G27: 64150 | H27: 53950 | I27: 59060 | J27: 63950 | K27: 54390 | L27: 59270 | M27: 63930 | N27: 55100 | O27: 59640 | P27: 63950 | Q27: =SUM(B27,E27,H27,K27,N27) -> 270710 | S27: =SUM(C27,F27,I27,L27,O27) -> 296340 | T27: =SUM(P27,M27,J27,G27,D27) -> 320660 | U27: =SUM(B27,E27) -> 107270 | W27: =SUM(C27,F27) -> 118370 | X27: =SUM(D27,G27) -> 128830 | Y27: =SUM(H27,K27,N27) -> 163440 | AA27: =SUM(I27,L27,O27) -> 177970 | AB27: =SUM(J27,M27,P27) -> 191830
A28: 2038 | B28: 53990 | C28: 59750 | D28: 65300 | E28: 53910 | F28: 59430 | G28: 64750 | H28: 53980 | I28: 59390 | J28: 64480 | K28: 54380 | L28: 59520 | M28: 64420 | N28: 54980 | O28: 59830 | P28: 64430 | Q28: =SUM(B28,E28,H28,K28,N28) -> 271240 | S28: =SUM(C28,F28,I28,L28,O28) -> 297920 | T28: =SUM(P28,M28,J28,G28,D28) -> 323380 | U28: =SUM(B28,E28) -> 107900 | W28: =SUM(C28,F28) -> 119180 | X28: =SUM(D28,G28) -> 130050 | Y28: =SUM(H28,K28,N28) -> 163340 | AA28: =SUM(I28,L28,O28) -> 178740 | AB28: =SUM(J28,M28,P28) -> 193330
A30: Values are from Stats NZ population projections

Sheet T5
A1: Population aged 4 and under
B2: 0 Years | C2: 1 Years | D2: 2 Years | E2: 3 Years | F2: 4 Years
A3: 2015 | B3: 58870 | C3: 59020 | D3: 61290 | E3: 62450 | F3: 63580 | H3: =SUM(B3:F3) -> 305210 | J3: =B3/$H3 -> 0.19288359 | K3: =C3/$H3 -> 0.19337505 | L3: =D3/$H3 -> 0.20081256 | M3: =E3/$H3 -> 0.20461322 | N3: =F3/$H3 -> 0.20831559
A4: 2016 | B4: 59400 | C4: 59550 | D4: 59980 | E4: 62440 | F4: 63340 | H4: =SUM(B4:F4) -> 304710 | J4: =B4/$H4 -> 0.19493945 | K4: =C4/$H4 -> 0.19543172 | L4: =D4/$H4 -> 0.1968429 | M4: =E4/$H4 -> 0.20491615 | N4: =F4/$H4 -> 0.20786978
A5: 2017 | B5: 60150 | C5: 59970 | D5: 60760 | E5: 61180 | F5: 63460 | H5: =SUM(B5:F5) -> 305520 | J5: =B5/$H5 -> 0.19687745 | K5: =C5/$H5 -> 0.1962883 | L5: =D5/$H5 -> 0.19887405 | M5: =E5/$H5 -> 0.20024876 | N5: =F5/$H5 -> 0.20771144
A6: 2018 | B6: 59530 | C6: 60520 | D6: 60890 | E6: 61880 | F6: 62210 | H6: =SUM(B6:F6) -> 305030 | J6: =B6/$H6 -> 0.19516113 | K6: =C6/$H6 -> 0.19840671 | L6: =D6/$H6 -> 0.19961971 | M6: =E6/$H6 -> 0.20286529 | N6: =F6/$H6 -> 0.20394715
A7: 2019 | B7: 59640 | C7: 59750 | D7: 61290 | E7: 61790 | F7: 62860 | H7: =SUM(B7:F7) -> 305330 | J7: =B7/$H7 -> 0.19532964 | K7: =C7/$H7 -> 0.19568991 | L7: =D7/$H7 -> 0.20073363 | M7: =E7/$H7 -> 0.2023712 | N7: =F7/$H7 -> 0.20587561
A8: 2020 | B8: 59330 | C8: 60080 | D8: 60610 | E8: 62410 | F8: 62770 | H8: =SUM(B8:F8) -> 305200 | J8: =B8/$H8 -> 0.19439712 | K8: =C8/$H8 -> 0.19685452 | L8: =D8/$H8 -> 0.19859109 | M8: =E8/$H8 -> 0.20448886 | N8: =F8/$H8 -> 0.20566841
A9: 2021 | B9: 60860 | C9: 59520 | D9: 60420 | E9: 60930 | F9: 62640 | H9: =SUM(B9:F9) -> 304370 | J9: =B9/$H9 -> 0.199954 | K9: =C9/$H9 -> 0.19555147 | L9: =D9/$H9 -> 0.19850839 | M9: =E9/$H9 -> 0.20018399 | N9: =F9/$H9 -> 0.20580215
A10: 2022 | B10: 60340 | C10: 60720 | D10: 59670 | E10: 60840 | F10: 61160 | H10: =SUM(B10:F10) -> 302730 | J10: =B10/$H10 -> 0.19931953 | K10: =C10/$H10 -> 0.20057477 | L10: =D10/$H10 -> 0.19710633 | M10: =E10/$H10 -> 0.20097116 | N10: =F10/$H10 -> 0.20202821
A11: 2023 | B11: 56840 | C11: 60790 | D11: 61490 | E11: 60840 | F11: 62350 | H11: =SUM(B11:F11) -> 302310 | J11: =B11/$H11 -> 0.18801892 | K11: =C11/$H11 -> 0.20108498 | L11: =D11/$H11 -> 0.20340048 | M11: =E11/$H11 -> 0.20125037 | N11: =F11/$H11 -> 0.20624524
A12: 2024 | B12: 57070 | C12: 57190 | D12: 61700 | E12: 62510 | F12: 62230 | H12: =SUM(B12:F12) -> 300700 | J12: =B12/$H12 -> 0.18979049 | K12: =C12/$H12 -> 0.19018956 | L12: =D12/$H12 -> 0.20518789 | M12: =E12/$H12 -> 0.20788161 | N12: =F12/$H12 -> 0.20695045
A14: Number of children participating in ECE | H14: % of demand from age
B15: Less than 1 years old | C15: 1 years old | D15: 2 years old | E15: 3 years old | F15: 4 years old | H15: Less than 1 years old | I15: 1 years old | J15: 2 years old | K15: 3 years old | L15: 4 years old
A16: 2015 | B16: 9774 | C16: 26312 | D16: 40320 | E16: 57332 | F16: 61354 | H16: =B16/SUM($B16:$F16) -> 0.05009944 | I16: =C16/SUM($B16:$F16) -> 0.1348697 | J16: =D16/SUM($B16:$F16) -> 0.20667172 | K16: =E16/SUM($B16:$F16) -> 0.29387161 | L16: =F16/SUM($B16:$F16) -> 0.31448752
A17: 2016 | B17: 10076 | C17: 28066 | D17: 41250 | E17: 58529 | F17: 61592 | H17: =B17/SUM($B17:$F17) -> 0.050502975 | I17: =C17/SUM($B17:$F17) -> 0.14067254 | J17: =D17/SUM($B17:$F17) -> 0.20675344 | K17: =E17/SUM($B17:$F17) -> 0.29335933 | L17: =F17/SUM($B17:$F17) -> 0.30871171
A18: 2017 | B18: 10549 | C18: 28467 | D18: 42504 | E18: 57052 | F18: 61763 | H18: =B18/SUM($B18:$F18) -> 0.0526568 | I18: =C18/SUM($B18:$F18) -> 0.14209699 | J18: =D18/SUM($B18:$F18) -> 0.21216462 | K18: =E18/SUM($B18:$F18) -> 0.28478299 | L18: =F18/SUM($B18:$F18) -> 0.3082986
A19: 2018 | B19: 9538 | C19: 28725 | D19: 42326 | E19: 56725 | F19: 59675 | H19: =B19/SUM($B19:$F19) -> 0.048418947 | I19: =C19/SUM($B19:$F19) -> 0.14582032 | J19: =D19/SUM($B19:$F19) -> 0.21486479 | K19: =E19/SUM($B19:$F19) -> 0.28796024 | L19: =F19/SUM($B19:$F19) -> 0.3029357
A20: 2019 | B20: 9319 | C20: 28217 | D20: 42626 | E20: 55588 | F20: 59229 | H20: =B20/SUM($B20:$F20) -> 0.047794891 | I20: =C20/SUM($B20:$F20) -> 0.14471815 | J20: =D20/SUM($B20:$F20) -> 0.21861842 | K20: =E20/SUM($B20:$F20) -> 0.28509737 | L20: =F20/SUM($B20:$F20) -> 0.30377118
A21: 2020 | B21: 7939 | C21: 25840 | D21: 39965 | E21: 53957 | F21: 57578 | H21: =B21/SUM($B21:$F21) -> 0.042848893 | I21: =C21/SUM($B21:$F21) -> 0.13946535 | J21: =D21/SUM($B21:$F21) -> 0.21570173 | K21: =E21/SUM($B21:$F21) -> 0.29122027 | L21: =F21/SUM($B21:$F21) -> 0.31076377
A22: 2021 | B22: 9808 | C22: 29274 | D22: 41556 | E22: 53139 | F22: 57680 | H22: =B22/SUM($B22:$F22) -> 0.051228213 | I22: =C22/SUM($B22:$F22) -> 0.15290117 | J22: =D22/SUM($B22:$F22) -> 0.21705135 | K22: =E22/SUM($B22:$F22) -> 0.27755057 | L22: =F22/SUM($B22:$F22) -> 0.30126869
A23: 2022 | B23: 9788 | C23: 28460 | D23: 39242 | E23: 48843 | F23: 52080 | H23: =B23/SUM($B23:$F23) -> 0.054861473 | I23: =C23/SUM($B23:$F23) -> 0.15951752 | J23: =D23/SUM($B23:$F23) -> 0.21995034 | K23: =E23/SUM($B23:$F23) -> 0.27376368 | L23: =F23/SUM($B23:$F23) -> 0.29190698
A24: 2023 | B24: 9352 | C24: 30696 | D24: 42490 | E24: 51477 | F24: 54325 | H24: =B24/SUM($B24:$F24) -> 0.049654879 | I24: =C24/SUM($B24:$F24) -> 0.16298184 | J24: =D24/SUM($B24:$F24) -> 0.22560263 | K24: =E24/SUM($B24:$F24) -> 0.27331953 | L24: =F24/SUM($B24:$F24) -> 0.28844112
A25: 2024 | B25: 9193 | C25: 28341 | D25: 44015 | E25: 53883 | F25: 55931 | H25: =B25/SUM($B25:$F25) -> 0.04803959 | I25: =C25/SUM($B25:$F25) -> 0.14810073 | J25: =D25/SUM($B25:$F25) -> 0.23000789 | K25: =E25/SUM($B25:$F25) -> 0.28157481 | L25: =F25/SUM($B25:$F25) -> 0.29227698
A27: Rate of participation in ECE
B28: Less than 1 years old | C28: 1 years old | D28: 2 years old | E28: 3 years old | F28: 4 years old | G28: Overall
A29: 2015 | B29: =B16/B3 -> 0.16602684 | C29: =C16/C3 -> 0.44581498 | D29: =D16/D3 -> 0.65785609 | E29: =E16/E3 -> 0.91804644 | F29: =F16/F3 -> 0.96498899 | G29: =SUM(B16:F16)/SUM(B3:F3) -> 0.63920579
A30: 2016 | B30: =B17/B4 -> 0.16962963 | C30: =C17/C4 -> 0.47130143 | D30: =D17/D4 -> 0.68772924 | E30: =E17/E4 -> 0.93736387 | F30: =F17/F4 -> 0.9724029 | G30: =SUM(B17:F17)/SUM(B4:F4) -> 0.65476355
A31: 2017 | B31: =B18/B5 -> 0.17537822 | C31: =C18/C5 -> 0.47468734 | D31: =D18/D5 -> 0.69953917 | E31: =E18/E5 -> 0.93252697 | F31: =F18/F5 -> 0.97325875 | G31: =SUM(B18:F18)/SUM(B5:F5) -> 0.65571812
A32: 2018 | B32: =B19/B6 -> 0.16022174 | C32: =C19/C6 -> 0.47463648 | D32: =D19/D6 -> 0.69512235 | E32: =E19/E6 -> 0.9166936 | F32: =F19/F6 -> 0.95925092 | G32: =SUM(B19:F19)/SUM(B6:F6) -> 0.64580205
A33: 2019 | B33: =B20/B7 -> 0.15625419 | C33: =C20/C7 -> 0.47225105 | D33: =D20/D7 -> 0.6954805 | E33: =E20/E7 -> 0.89962777 | F33: =F20/F7 -> 0.94223672 | G33: =SUM(B20:F20)/SUM(B7:F7) -> 0.63858448
A34: 2020 | B34: =B21/B8 -> 0.13381089 | C34: =C21/C8 -> 0.43009321 | D34: =D21/D8 -> 0.65937964 | E34: =E21/E8 -> 0.86455696 | F34: =F21/F8 -> 0.91728533 | G34: =SUM(B21:F21)/SUM(B8:F8) -> 0.60707405
A35: 2021 | B35: =B22/B9 -> 0.16115675 | C35: =C22/C9 -> 0.49183468 | D35: =D22/D9 -> 0.6877855 | E35: =E22/E9 -> 0.87213195 | F35: =F22/F9 -> 0.92081737 | G35: =SUM(B22:F22)/SUM(B9:F9) -> 0.62902717
A36: 2022 | B36: =B23/B10 -> 0.16221412 | C36: =C23/C10 -> 0.46870883 | D36: =D23/D10 -> 0.65765041 | E36: =E23/E10 -> 0.80281065 | F36: =F23/F10 -> 0.85153695 | G36: =SUM(B23:F23)/SUM(B10:F10) -> 0.58934694
A37: 2023 | B37: =B24/B11 -> 0.16453202 | C37: =C24/C11 -> 0.50495147 | D37: =D24/D11 -> 0.69100667 | E37: =E24/E11 -> 0.84610454 | F37: =F24/F11 -> 0.8712911 | G37: =SUM(B24:F24)/SUM(B11:F11) -> 0.62300288
A38: 2024 | B38: =B25/B12 -> 0.16108288 | C38: =C25/C12 -> 0.49555866 | D38: =D25/D12 -> 0.71337115 | E38: =E25/E12 -> 0.86199008 | F38: =F25/F12 -> 0.89877872 | G38: =SUM(B25:F25)/SUM(B12:F12) -> 0.63639175
A40: Min | B40: =MIN(B29:B38) -> 0.13381089 | C40: =MIN(C29:C38) -> 0.43009321 | D40: =MIN(D29:D38) -> 0.65765041 | E40: =MIN(E29:E38) -> 0.80281065 | F40: =MIN(F29:F38) -> 0.85153695 | G40: =MIN(G29:G38) -> 0.58934694 | H40: =MIN(H16:H24) -> 0.042848893 | I40: =MIN(I16:I24) -> 0.1348697 | J40: =MIN(J16:J24) -> 0.20667172 | K40: =MIN(K16:K24) -> 0.27331953 | L40: =MIN(L16:L24) -> 0.28844112 | N40: =SUM(H40:L40) -> 0.94615097
A41: Median | B41: =MEDIAN(B29:B38) -> 0.16168544 | C41: =MEDIAN(C29:C38) -> 0.47344376 | D41: =MEDIAN(D29:D38) -> 0.68939608 | E41: =MEDIAN(E29:E38) -> 0.88587986 | F41: =MEDIAN(F29:F38) -> 0.93152704 | G41: =MEDIAN(G29:G38) -> 0.63748812 | H41: =MEDIAN(H16:H25) -> 0.04987716 | I41: =MEDIAN(I16:I25) -> 0.14526924 | J41: =MEDIAN(J16:J25) -> 0.21637654 | K41: =MEDIAN(K16:K25) -> 0.28494018 | L41: =MEDIAN(L16:L25) -> 0.30335344 | N41: =SUM(H41:L41) -> 0.99981655
A42: Mean | B42: =AVERAGE(B29:B38) -> 0.16103073 | C42: =AVERAGE(C29:C38) -> 0.47298381 | D42: =AVERAGE(D29:D38) -> 0.68449207 | E42: =AVERAGE(E29:E38) -> 0.88518528 | F42: =AVERAGE(F29:F38) -> 0.92718478 | G42: =AVERAGE(G29:G38) -> 0.63189168 | H42: =AVERAGE(H16:H25) -> 0.04961061 | I42: =AVERAGE(I16:I25) -> 0.14711443 | J42: =AVERAGE(J16:J25) -> 0.21673869 | K42: =AVERAGE(K16:K25) -> 0.28425004 | L42: =AVERAGE(L16:L25) -> 0.30228622 | N42: =SUM(H42:L42) -> 1
A43: Max | B43: =MAX(B29:B38) -> 0.17537822 | C43: =MAX(C29:C38) -> 0.50495147 | D43: =MAX(D29:D38) -> 0.71337115 | E43: =MAX(E29:E38) -> 0.93736387 | F43: =MAX(F29:F38) -> 0.97325875 | G43: =MAX(G29:G38) -> 0.65571812 | H43: =MAX(H16:H24) -> 0.054861473 | I43: =MAX(I16:I24) -> 0.16298184 | J43: =MAX(J16:J24) -> 0.22560263 | K43: =MAX(K16:K24) -> 0.29387161 | L43: =MAX(L16:L24) -> 0.31448752 | N43: =SUM(H43:L43) -> 1.0518051
...

Sheet T6
A1: LOW PARTICIPATION IN ECE
A2: Applied rate of participation | C2: ='T5'!B47 -> 0.15625419 | F2: ='T5'!C47 -> 0.44581498 | I2: ='T5'!D47 -> 0.65785609 | L2: ='T5'!E47 -> 0.84610454 | O2: ='T5'!F47 -> 0.8712911
B3: 0 years* | E3: 1 years | H3: 2 years | K3: 3 years | N3: 4 years | Q3: Total
A4: Year | B4: Low | C4: Medium | D4: High | E4: Low | F4: Medium | G4: High | H4: Low | I4: Medium | J4: High | K4: Low | L4: Medium | M4: High | N4: Low | O4: Medium | P4: High | Q4: Low | R4: Actual | S4: Medium | T4: High
A5: 2015 | B5: =IF(MROUND('T2'!B5*'T6'!$C$2,1)=0,"",MROUND('T2'!B5*'T6'!C$2,5)) | C5: 9774 | D5: =IF(MROUND('T2'!D5*'T6'!$C$2,1)<1,"",MROUND('T2'!D5*'T6'!$C$2,5)) | E5: =IF(MROUND('T2'!E5*'T6'!F$2,1)=0,"",MROUND('T2'!E5*'T6'!F$2,5)) | F5: 26312 | G5: =IF(MROUND('T2'!G5*'T6'!$C$2,1)<1,"",MROUND('T2'!G5*'T6'!$C$2,5)) | H5: =IF(MROUND('T2'!H5*'T6'!I$2,1)=0,"",MROUND('T2'!H5*'T6'!I$2,5)) | I5: 40320 | J5: =IF(MROUND('T2'!J5*'T6'!$C$2,1)<1,"",MROUND('T2'!J5*'T6'!$C$2,5)) | L5: 57332 | O5: 61354 | R5: =SUM(C5,F5,I5,L5,O5) -> 195092
A6: 2016 | B6: =IF(MROUND('T2'!B6*'T6'!$C$2,1)=0,"",MROUND('T2'!B6*'T6'!C$2,5)) | C6: 10076 | D6: =IF(MROUND('T2'!D6*'T6'!$C$2,1)<1,"",MROUND('T2'!D6*'T6'!$C$2,5)) | E6: =IF(MROUND('T2'!E6*'T6'!F$2,1)=0,"",MROUND('T2'!E6*'T6'!F$2,5)) | F6: 28066 | G6: =IF(MROUND('T2'!G6*'T6'!$C$2,1)<1,"",MROUND('T2'!G6*'T6'!$C$2,5)) | H6: =IF(MROUND('T2'!H6*'T6'!I$2,1)=0,"",MROUND('T2'!H6*'T6'!I$2,5)) | I6: 41250 | J6: =IF(MROUND('T2'!J6*'T6'!$C$2,1)<1,"",MROUND('T2'!J6*'T6'!$C$2,5)) | L6: 58529 | O6: 61592 | R6: =SUM(C6,F6,I6,L6,O6) -> 199513
A7: 2017 | B7: =IF(MROUND('T2'!B7*'T6'!$C$2,1)=0,"",MROUND('T2'!B7*'T6'!C$2,5)) | C7: 10549 | D7: =IF(MROUND('T2'!D7*'T6'!$C$2,1)<1,"",MROUND('T2'!D7*'T6'!$C$2,5)) | E7: =IF(MROUND('T2'!E7*'T6'!F$2,1)=0,"",MROUND('T2'!E7*'T6'!F$2,5)) | F7: 28467 | G7: =IF(MROUND('T2'!G7*'T6'!$C$2,1)<1,"",MROUND('T2'!G7*'T6'!$C$2,5)) | H7: =IF(MROUND('T2'!H7*'T6'!I$2,1)=0,"",MROUND('T2'!H7*'T6'!I$2,5)) | I7: 42504 | J7: =IF(MROUND('T2'!J7*'T6'!$C$2,1)<1,"",MROUND('T2'!J7*'T6'!$C$2,5)) | L7: 57052 | O7: 61763 | R7: =SUM(C7,F7,I7,L7,O7) -> 200335
A8: 2018 | B8: =IF(MROUND('T2'!B8*'T6'!$C$2,1)=0,"",MROUND('T2'!B8*'T6'!C$2,5)) | C8: 9538 | D8: =IF(MROUND('T2'!D8*'T6'!$C$2,1)<1,"",MROUND('T2'!D8*'T6'!$C$2,5)) | E8: =IF(MROUND('T2'!E8*'T6'!F$2,1)=0,"",MROUND('T2'!E8*'T6'!F$2,5)) | F8: 28725 | G8: =IF(MROUND('T2'!G8*'T6'!$C$2,1)<1,"",MROUND('T2'!G8*'T6'!$C$2,5)) | H8: =IF(MROUND('T2'!H8*'T6'!I$2,1)=0,"",MROUND('T2'!H8*'T6'!I$2,5)) | I8: 42326 | J8: =IF(MROUND('T2'!J8*'T6'!$C$2,1)<1,"",MROUND('T2'!J8*'T6'!$C$2,5)) | L8: 56725 | O8: 59675 | R8: =SUM(C8,F8,I8,L8,O8) -> 196989
A9: 2019 | B9: =IF(MROUND('T2'!B9*'T6'!$C$2,1)=0,"",MROUND('T2'!B9*'T6'!C$2,5)) | C9: 9319 | D9: =IF(MROUND('T2'!D9*'T6'!$C$2,1)<1,"",MROUND('T2'!D9*'T6'!$C$2,5)) | E9: =IF(MROUND('T2'!E9*'T6'!F$2,1)=0,"",MROUND('T2'!E9*'T6'!F$2,5)) | F9: 28217 | G9: =IF(MROUND('T2'!G9*'T6'!$C$2,1)<1,"",MROUND('T2'!G9*'T6'!$C$2,5)) | H9: =IF(MROUND('T2'!H9*'T6'!I$2,1)=0,"",MROUND('T2'!H9*'T6'!I$2,5)) | I9: 42626 | J9: =IF(MROUND('T2'!J9*'T6'!$C$2,1)<1,"",MROUND('T2'!J9*'T6'!$C$2,5)) | L9: 55588 | O9: 59229 | R9: =SUM(C9,F9,I9,L9,O9) -> 194979
A10: 2020 | B10: =IF(MROUND('T2'!B10*'T6'!$C$2,1)=0,"",MROUND('T2'!B10*'T6'!C$2,5)) | C10: 7939 | D10: =IF(MROUND('T2'!D10*'T6'!$C$2,1)<1,"",MROUND('T2'!D10*'T6'!$C$2,5)) | E10: =IF(MROUND('T2'!E10*'T6'!F$2,1)=0,"",MROUND('T2'!E10*'T6'!F$2,5)) | F10: 25840 | G10: =IF(MROUND('T2'!G10*'T6'!$C$2,1)<1,"",MROUND('T2'!G10*'T6'!$C$2,5)) | H10: =IF(MROUND('T2'!H10*'T6'!I$2,1)=0,"",MROUND('T2'!H10*'T6'!I$2,5)) | I10: 39965 | J10: =IF(MROUND('T2'!J10*'T6'!$C$2,1)<1,"",MROUND('T2'!J10*'T6'!$C$2,5)) | L10: 53957 | O10: 57578 | R10: =SUM(C10,F10,I10,L10,O10) -> 185279
A11: 2021 | B11: =IF(MROUND('T2'!B11*'T6'!$C$2,1)=0,"",MROUND('T2'!B11*'T6'!C$2,5)) | C11: 9808 | D11: =IF(MROUND('T2'!D11*'T6'!$C$2,1)<1,"",MROUND('T2'!D11*'T6'!$C$2,5)) | E11: =IF(MROUND('T2'!E11*'T6'!F$2,1)=0,"",MROUND('T2'!E11*'T6'!F$2,5)) | F11: 29274 | G11: =IF(MROUND('T2'!G11*'T6'!$C$2,1)<1,"",MROUND('T2'!G11*'T6'!$C$2,5)) | H11: =IF(MROUND('T2'!H11*'T6'!I$2,1)=0,"",MROUND('T2'!H11*'T6'!I$2,5)) | I11: 41556 | J11: =IF(MROUND('T2'!J11*'T6'!$C$2,1)<1,"",MROUND('T2'!J11*'T6'!$C$2,5)) | L11: 53139 | O11: 57680 | R11: =SUM(C11,F11,I11,L11,O11) -> 191457
A12: 2022 | B12: =IF(MROUND('T2'!B12*'T6'!$C$2,1)=0,"",MROUND('T2'!B12*'T6'!C$2,5)) | C12: 9788 | D12: =IF(MROUND('T2'!D12*'T6'!$C$2,1)<1,"",MROUND('T2'!D12*'T6'!$C$2,5)) | E12: =IF(MROUND('T2'!E12*'T6'!F$2,1)=0,"",MROUND('T2'!E12*'T6'!F$2,5)) | F12: 28460 | G12: =IF(MROUND('T2'!G12*'T6'!$C$2,1)<1,"",MROUND('T2'!G12*'T6'!$C$2,5)) | H12: =IF(MROUND('T2'!H12*'T6'!I$2,1)=0,"",MROUND('T2'!H12*'T6'!I$2,5)) | I12: 39242 | J12: =IF(MROUND('T2'!J12*'T6'!$C$2,1)<1,"",MROUND('T2'!J12*'T6'!$C$2,5)) | L12: 48843 | O12: 52080 | R12: =SUM(C12,F12,I12,L12,O12) -> 178413
A13: 2023 | B13: =IF(MROUND('T2'!B13*'T6'!$C$2,1)=0,"",MROUND('T2'!B13*'T6'!C$2,5)) | C13: 9352 | D13: =IF(MROUND('T2'!D13*'T6'!$C$2,1)<1,"",MROUND('T2'!D13*'T6'!$C$2,5)) | E13: =IF(MROUND('T2'!E13*'T6'!F$2,1)=0,"",MROUND('T2'!E13*'T6'!F$2,5)) | F13: 30696 | G13: =IF(MROUND('T2'!G13*'T6'!$C$2,1)<1,"",MROUND('T2'!G13*'T6'!$C$2,5)) | H13: =IF(MROUND('T2'!H13*'T6'!I$2,1)=0,"",MROUND('T2'!H13*'T6'!I$2,5)) | I13: 42490 | J13: =IF(MROUND('T2'!J13*'T6'!$C$2,1)<1,"",MROUND('T2'!J13*'T6'!$C$2,5)) | L13: 51477 | O13: 54325 | R13: =SUM(C13,F13,I13,L13,O13) -> 188340
A14: 2024 | B14: =IF(MROUND('T2'!B14*'T6'!$C$2,1)=0,"",MROUND('T2'!B14*'T6'!C$2,5)) | C14: 9193 | D14: =IF(MROUND('T2'!D14*'T6'!$C$2,1)<1,"",MROUND('T2'!D14*'T6'!$C$2,5)) | E14: =IF(MROUND('T2'!E14*'T6'!F$2,1)=0,"",MROUND('T2'!E14*'T6'!F$2,5)) | F14: 28341 | G14: =IF(MROUND('T2'!G14*'T6'!$C$2,1)<1,"",MROUND('T2'!G14*'T6'!$C$2,5)) | H14: =IF(MROUND('T2'!H14*'T6'!I$2,1)=0,"",MROUND('T2'!H14*'T6'!I$2,5)) | I14: 44015 | J14: =IF(MROUND('T2'!J14*'T6'!$C$2,1)<1,"",MROUND('T2'!J14*'T6'!$C$2,5)) | L14: 53883 | O14: 55931 | Q14: =R14 -> 191363 | R14: =SUM(C14,F14,I14,L14,O14) -> 191363 | S14: =R14 -> 191363 | T14: =R14 -> 191363
A15: 2025 | B15: =IF(MROUND('T2'!B15*'T6'!$C$2,1)=0,"",MROUND('T2'!B15*'T6'!C$2,5)) -> 8885 | C15: =IF(MROUND('T2'!C15*'T6'!$C$2,1)<1,"",MROUND('T2'!C15*'T6'!$C$2,5)) -> 9085 | D15: =IF(MROUND('T2'!D15*'T6'!$C$2,1)<1,"",MROUND('T2'!D15*'T6'!$C$2,5)) -> 9270 | E15: =IF(MROUND('T2'!E15*'T6'!F$2,1)=0,"",MROUND('T2'!E15*'T6'!F$2,5)) -> 25320 | F15: =IF(MROUND('T2'!F15*'T6'!F$2,1)<1,"",MROUND('T2'!F15*'T6'!F$2,5)) -> 25425 | G15: =IF(MROUND('T2'!G15*'T6'!$C$2,1)<1,"",MROUND('T2'!G15*'T6'!$C$2,5)) -> 8945 | H15: =IF(MROUND('T2'!H15*'T6'!I$2,1)=0,"",MROUND('T2'!H15*'T6'!I$2,5)) -> 37590 | I15: =IF(MROUND('T2'!I15*'T6'!I$2,1)<1,"",MROUND('T2'!I15*'T6'!I$2,5)) -> 37750 | J15: =IF(MROUND('T2'!J15*'T6'!$C$2,1)<1,"",MROUND('T2'!J15*'T6'!$C$2,5)) -> 8995 | K15: =IF(MROUND('T2'!K15*'T6'!L$2,1)=0,"",MROUND('T2'!K15*'T6'!L$2,5)) -> 52220 | L15: =IF(MROUND('T2'!L15*'T6'!L$2,1)<1,"",MROUND('T2'!L15*'T6'!L$2,5)) -> 52440 | M15: =IF(MROUND('T2'!M15*'T6'!$C$2,1)<1,"",MROUND('T2'!M15*'T6'!$C$2,5)) -> 9715 | N15: =IF(MROUND('T2'!N15*'T6'!O$2,1)=0,"",MROUND('T2'!N15*'T6'!O$2,5)) -> 54550 | O15: =IF(MROUND('T2'!O15*'T6'!O$2,1)<1,"",MROUND('T2'!O15*'T6'!O$2,5)) -> 54795 | P15: =IF(MROUND('T2'!P15*'T6'!$C$2,1)<1,"",MROUND('T2'!P15*'T6'!$C$2,5)) -> 9850 | Q15: =SUM(B15,F15,I15,L15,O15) -> 179295 | S15: =SUM(C15,F15,I15,L15,O15) -> 179495 | T15: =SUM(O15,L15,I15,F15,D15) -> 179680
A16: 2026 | B16: =IF(MROUND('T2'!B16*'T6'!$C$2,1)=0,"",MROUND('T2'!B16*'T6'!C$2,5)) -> 8765 | C16: =IF(MROUND('T2'!C16*'T6'!$C$2,1)<1,"",MROUND('T2'!C16*'T6'!$C$2,5)) -> 9085 | D16: =IF(MROUND('T2'!D16*'T6'!$C$2,1)<1,"",MROUND('T2'!D16*'T6'!$C$2,5)) -> 9375 | E16: =IF(MROUND('T2'!E16*'T6'!F$2,1)=0,"",MROUND('T2'!E16*'T6'!F$2,5)) -> 25195 | F16: =IF(MROUND('T2'!F16*'T6'!F$2,1)<1,"",MROUND('T2'!F16*'T6'!F$2,5)) -> 25910 | G16: =IF(MROUND('T2'!G16*'T6'!F$2,1)<1,"",MROUND('T2'!G16*'T6'!F$2,5)) -> 26475 | H16: =IF(MROUND('T2'!H16*'T6'!I$2,1)=0,"",MROUND('T2'!H16*'T6'!I$2,5)) -> 37420 | I16: =IF(MROUND('T2'!I16*'T6'!I$2,1)<1,"",MROUND('T2'!I16*'T6'!I$2,5)) -> 37670 | J16: =IF(MROUND('T2'!J16*'T6'!I$2,1)<1,"",MROUND('T2'!J16*'T6'!I$2,5)) -> 37880 | K16: =IF(MROUND('T2'!K16*'T6'!L$2,1)=0,"",MROUND('T2'!K16*'T6'!L$2,5)) -> 48475 | L16: =IF(MROUND('T2'!L16*'T6'!L$2,1)<1,"",MROUND('T2'!L16*'T6'!L$2,5)) -> 48820 | M16: =IF(MROUND('T2'!M16*'T6'!L$2,1)<1,"",MROUND('T2'!M16*'T6'!L$2,5)) -> 49115 | N16: =IF(MROUND('T2'!N16*'T6'!O$2,1)=0,"",MROUND('T2'!N16*'T6'!O$2,5)) -> 53975 | O16: =IF(MROUND('T2'!O16*'T6'!O$2,1)<1,"",MROUND('T2'!O16*'T6'!O$2,5)) -> 54370 | P16: =IF(MROUND('T2'!P16*'T6'!O$2,1)<1,"",MROUND('T2'!P16*'T6'!O$2,5)) -> 54680 | Q16: =SUM(B16,E16,I16,L16,O16) -> 174820 | S16: =SUM(C16,F16,I16,L16,O16) -> 175855 | T16: =SUM(O16,L16,I16,G16,D16) -> 176710
A17: 2027 | B17: =IF(MROUND('T2'!B17*'T6'!$C$2,1)=0,"",MROUND('T2'!B17*'T6'!C$2,5)) -> 8670 | C17: =IF(MROUND('T2'!C17*'T6'!$C$2,1)<1,"",MROUND('T2'!C17*'T6'!$C$2,5)) -> 9085 | D17: =IF(MROUND('T2'!D17*'T6'!$C$2,1)<1,"",MROUND('T2'!D17*'T6'!$C$2,5)) -> 9450 | E17: =IF(MROUND('T2'!E17*'T6'!F$2,1)=0,"",MROUND('T2'!E17*'T6'!F$2,5)) -> 25005 | F17: =IF(MROUND('T2'!F17*'T6'!F$2,1)<1,"",MROUND('T2'!F17*'T6'!F$2,5)) -> 25930 | G17: =IF(MROUND('T2'!G17*'T6'!F$2,1)<1,"",MROUND('T2'!G17*'T6'!F$2,5)) -> 26785 | H17: =IF(MROUND('T2'!H17*'T6'!I$2,1)=0,"",MROUND('T2'!H17*'T6'!I$2,5)) -> 37335 | I17: =IF(MROUND('T2'!I17*'T6'!I$2,1)<1,"",MROUND('T2'!I17*'T6'!I$2,5)) -> 38405 | J17: =IF(MROUND('T2'!J17*'T6'!I$2,1)<1,"",MROUND('T2'!J17*'T6'!I$2,5)) -> 39255 | K17: =IF(MROUND('T2'!K17*'T6'!L$2,1)=0,"",MROUND('T2'!K17*'T6'!L$2,5)) -> 48280 | L17: =IF(MROUND('T2'!L17*'T6'!L$2,1)<1,"",MROUND('T2'!L17*'T6'!L$2,5)) -> 48755 | M17: =IF(MROUND('T2'!M17*'T6'!L$2,1)<1,"",MROUND('T2'!M17*'T6'!L$2,5)) -> 49185 | N17: =IF(MROUND('T2'!N17*'T6'!O$2,1)=0,"",MROUND('T2'!N17*'T6'!O$2,5)) -> 50135 | O17: =IF(MROUND('T2'!O17*'T6'!O$2,1)<1,"",MROUND('T2'!O17*'T6'!O$2,5)) -> 50675 | P17: =IF(MROUND('T2'!P17*'T6'!O$2,1)<1,"",MROUND('T2'!P17*'T6'!O$2,5)) -> 51155 | Q17: =SUM(O17,L17,H17,E17,B17) -> 170440 | S17: =SUM(C17,F17,I17,L17,O17) -> 172850 | T17: =SUM(O17,L17,J17,G17,D17) -> 174920
A18: 2028 | B18: =IF(MROUND('T2'!B18*'T6'!$C$2,1)=0,"",MROUND('T2'!B18*'T6'!C$2,5)) -> 8610 | C18: =IF(MROUND('T2'!C18*'T6'!$C$2,1)<1,"",MROUND('T2'!C18*'T6'!$C$2,5)) -> 9080 | D18: =IF(MROUND('T2'!D18*'T6'!$C$2,1)<1,"",MROUND('T2'!D18*'T6'!$C$2,5)) -> 9525 | E18: =IF(MROUND('T2'!E18*'T6'!F$2,1)=0,"",MROUND('T2'!E18*'T6'!F$2,5)) -> 24730 | F18: =IF(MROUND('T2'!F18*'T6'!F$2,1)<1,"",MROUND('T2'!F18*'T6'!F$2,5)) -> 25935 | G18: =IF(MROUND('T2'!G18*'T6'!F$2,1)<1,"",MROUND('T2'!G18*'T6'!F$2,5)) -> 27005 | H18: =IF(MROUND('T2'!H18*'T6'!I$2,1)=0,"",MROUND('T2'!H18*'T6'!I$2,5)) -> 37075 | I18: =IF(MROUND('T2'!I18*'T6'!I$2,1)<1,"",MROUND('T2'!I18*'T6'!I$2,5)) -> 38450 | J18: =IF(MROUND('T2'!J18*'T6'!I$2,1)<1,"",MROUND('T2'!J18*'T6'!I$2,5)) -> 39720 | K18: =IF(MROUND('T2'!K18*'T6'!L$2,1)=0,"",MROUND('T2'!K18*'T6'!L$2,5)) -> 48295 | L18: =IF(MROUND('T2'!L18*'T6'!L$2,1)<1,"",MROUND('T2'!L18*'T6'!L$2,5)) -> 49725 | M18: =IF(MROUND('T2'!M18*'T6'!L$2,1)<1,"",MROUND('T2'!M18*'T6'!L$2,5)) -> 50885 | N18: =IF(MROUND('T2'!N18*'T6'!O$2,1)=0,"",MROUND('T2'!N18*'T6'!O$2,5)) -> 49985 | O18: =IF(MROUND('T2'!O18*'T6'!O$2,1)<1,"",MROUND('T2'!O18*'T6'!O$2,5)) -> 50630 | P18: =IF(MROUND('T2'!P18*'T6'!O$2,1)<1,"",MROUND('T2'!P18*'T6'!O$2,5)) -> 51190 | Q18: =SUM(O18,K18,H18,E18,B18) -> 169340 | S18: =SUM(C18,F18,I18,L18,O18) -> 173820 | T18: =SUM(O18,M18,J18,G18,D18) -> 177765
A19: 2029 | B19: =IF(MROUND('T2'!B19*'T6'!$C$2,1)=0,"",MROUND('T2'!B19*'T6'!C$2,5)) -> 8550 | C19: =IF(MROUND('T2'!C19*'T6'!$C$2,1)<1,"",MROUND('T2'!C19*'T6'!$C$2,5)) -> 9075 | D19: =IF(MROUND('T2'!D19*'T6'!$C$2,1)<1,"",MROUND('T2'!D19*'T6'!$C$2,5)) -> 9575 | E19: =IF(MROUND('T2'!E19*'T6'!F$2,1)=0,"",MROUND('T2'!E19*'T6'!F$2,5)) -> 24555 | F19: =IF(MROUND('T2'!F19*'T6'!F$2,1)<1,"",MROUND('T2'!F19*'T6'!F$2,5)) -> 25930 | G19: =IF(MROUND('T2'!G19*'T6'!F$2,1)<1,"",MROUND('T2'!G19*'T6'!F$2,5)) -> 27215 | H19: =IF(MROUND('T2'!H19*'T6'!I$2,1)=0,"",MROUND('T2'!H19*'T6'!I$2,5)) -> 36735 | I19: =IF(MROUND('T2'!I19*'T6'!I$2,1)<1,"",MROUND('T2'!I19*'T6'!I$2,5)) -> 38470 | J19: =IF(MROUND('T2'!J19*'T6'!I$2,1)<1,"",MROUND('T2'!J19*'T6'!I$2,5)) -> 40055 | K19: =IF(MROUND('T2'!K19*'T6'!L$2,1)=0,"",MROUND('T2'!K19*'T6'!L$2,5)) -> 47985 | L19: =IF(MROUND('T2'!L19*'T6'!L$2,1)<1,"",MROUND('T2'!L19*'T6'!L$2,5)) -> 49800 | M19: =IF(MROUND('T2'!M19*'T6'!L$2,1)<1,"",MROUND('T2'!M19*'T6'!L$2,5)) -> 51555 | N19: =IF(MROUND('T2'!N19*'T6'!O$2,1)=0,"",MROUND('T2'!N19*'T6'!O$2,5)) -> 50150 | O19: =IF(MROUND('T2'!O19*'T6'!O$2,1)<1,"",MROUND('T2'!O19*'T6'!O$2,5)) -> 51650 | P19: =IF(MROUND('T2'!P19*'T6'!O$2,1)<1,"",MROUND('T2'!P19*'T6'!O$2,5)) -> 52880 | Q19: =SUM(N19,K19,H19,E19,B19) -> 167975 | S19: =SUM(C19,F19,I19,L19,O19) -> 174925 | T19: =SUM(P19,M19,J19,G19,D19) -> 181280
A20: 2030 | B20: =IF(MROUND('T2'!B20*'T6'!$C$2,1)=0,"",MROUND('T2'!B20*'T6'!C$2,5)) -> 8495 | C20: =IF(MROUND('T2'!C20*'T6'!$C$2,1)<1,"",MROUND('T2'!C20*'T6'!$C$2,5)) -> 9070 | D20: =IF(MROUND('T2'!D20*'T6'!$C$2,1)<1,"",MROUND('T2'!D20*'T6'!$C$2,5)) -> 9620 | E20: =IF(MROUND('T2'!E20*'T6'!F$2,1)=0,"",MROUND('T2'!E20*'T6'!F$2,5)) -> 24420 | F20: =IF(MROUND('T2'!F20*'T6'!F$2,1)<1,"",MROUND('T2'!F20*'T6'!F$2,5)) -> 25920 | G20: =IF(MROUND('T2'!G20*'T6'!F$2,1)<1,"",MROUND('T2'!G20*'T6'!F$2,5)) -> 27370 | H20: =IF(MROUND('T2'!H20*'T6'!I$2,1)=0,"",MROUND('T2'!H20*'T6'!I$2,5)) -> 36440 | I20: =IF(MROUND('T2'!I20*'T6'!I$2,1)<1,"",MROUND('T2'!I20*'T6'!I$2,5)) -> 38470 | J20: =IF(MROUND('T2'!J20*'T6'!I$2,1)<1,"",MROUND('T2'!J20*'T6'!I$2,5)) -> 40385 | K20: =IF(MROUND('T2'!K20*'T6'!L$2,1)=0,"",MROUND('T2'!K20*'T6'!L$2,5)) -> 47610 | L20: =IF(MROUND('T2'!L20*'T6'!L$2,1)<1,"",MROUND('T2'!L20*'T6'!L$2,5)) -> 49835 | M20: =IF(MROUND('T2'!M20*'T6'!L$2,1)<1,"",MROUND('T2'!M20*'T6'!L$2,5)) -> 51875 | N20: =IF(MROUND('T2'!N20*'T6'!O$2,1)=0,"",MROUND('T2'!N20*'T6'!O$2,5)) -> 49810 | O20: =IF(MROUND('T2'!O20*'T6'!O$2,1)<1,"",MROUND('T2'!O20*'T6'!O$2,5)) -> 51745 | P20: =IF(MROUND('T2'!P20*'T6'!O$2,1)<1,"",MROUND('T2'!P20*'T6'!O$2,5)) -> 53665 | Q20: =SUM(N20,K20,H20,E20,B20) -> 166775 | S20: =SUM(C20,F20,I20,L20,O20) -> 175040 | T20: =SUM(P20,M20,J20,G20,D20) -> 182915
A21: 2031 | B21: =IF(MROUND('T2'!B21*'T6'!$C$2,1)=0,"",MROUND('T2'!B21*'T6'!C$2,5)) -> 8430 | C21: =IF(MROUND('T2'!C21*'T6'!$C$2,1)<1,"",MROUND('T2'!C21*'T6'!$C$2,5)) -> 9070 | D21: =IF(MROUND('T2'!D21*'T6'!$C$2,1)<1,"",MROUND('T2'!D21*'T6'!$C$2,5)) -> 9670 | E21: =IF(MROUND('T2'!E21*'T6'!F$2,1)=0,"",MROUND('T2'!E21*'T6'!F$2,5)) -> 24280 | F21: =IF(MROUND('T2'!F21*'T6'!F$2,1)<1,"",MROUND('T2'!F21*'T6'!F$2,5)) -> 25915 | G21: =IF(MROUND('T2'!G21*'T6'!F$2,1)<1,"",MROUND('T2'!G21*'T6'!F$2,5)) -> 27470 | H21: =IF(MROUND('T2'!H21*'T6'!I$2,1)=0,"",MROUND('T2'!H21*'T6'!I$2,5)) -> 36215 | I21: =IF(MROUND('T2'!I21*'T6'!I$2,1)<1,"",MROUND('T2'!I21*'T6'!I$2,5)) -> 38460 | J21: =IF(MROUND('T2'!J21*'T6'!I$2,1)<1,"",MROUND('T2'!J21*'T6'!I$2,5)) -> 40555 | K21: =IF(MROUND('T2'!K21*'T6'!L$2,1)=0,"",MROUND('T2'!K21*'T6'!L$2,5)) -> 47230 | L21: =IF(MROUND('T2'!L21*'T6'!L$2,1)<1,"",MROUND('T2'!L21*'T6'!L$2,5)) -> 49845 | M21: =IF(MROUND('T2'!M21*'T6'!L$2,1)<1,"",MROUND('T2'!M21*'T6'!L$2,5)) -> 52315 | N21: =IF(MROUND('T2'!N21*'T6'!O$2,1)=0,"",MROUND('T2'!N21*'T6'!O$2,5)) -> 49500 | O21: =IF(MROUND('T2'!O21*'T6'!O$2,1)<1,"",MROUND('T2'!O21*'T6'!O$2,5)) -> 51790 | P21: =IF(MROUND('T2'!P21*'T6'!O$2,1)<1,"",MROUND('T2'!P21*'T6'!O$2,5)) -> 53940 | Q21: =SUM(N21,K21,H21,E21,B21) -> 165655 | S21: =SUM(C21,F21,I21,L21,O21) -> 175080 | T21: =SUM(P21,M21,J21,G21,D21) -> 183950
